BEGIN:VCALENDAR
VERSION:2.0
PRODID:-//Grandmothers to Grandmothers Campaign - ECPv6.15.20//NONSGML v1.0//EN
CALSCALE:GREGORIAN
METHOD:PUBLISH
X-ORIGINAL-URL:https://grandmotherscampaign.org
X-WR-CALDESC:Events for Grandmothers to Grandmothers Campaign
REFRESH-INTERVAL;VALUE=DURATION:PT1H
X-Robots-Tag:noindex
X-PUBLISHED-TTL:PT1H
BEGIN:VTIMEZONE
TZID:America/Toronto
BEGIN:DAYLIGHT
TZOFFSETFROM:-0500
TZOFFSETTO:-0400
TZNAME:EDT
DTSTART:20210314T070000
END:DAYLIGHT
BEGIN:STANDARD
TZOFFSETFROM:-0400
TZOFFSETTO:-0500
TZNAME:EST
DTSTART:20211107T060000
END:STANDARD
BEGIN:DAYLIGHT
TZOFFSETFROM:-0500
TZOFFSETTO:-0400
TZNAME:EDT
DTSTART:20220313T070000
END:DAYLIGHT
BEGIN:STANDARD
TZOFFSETFROM:-0400
TZOFFSETTO:-0500
TZNAME:EST
DTSTART:20221106T060000
END:STANDARD
BEGIN:DAYLIGHT
TZOFFSETFROM:-0500
TZOFFSETTO:-0400
TZNAME:EDT
DTSTART:20230312T070000
END:DAYLIGHT
BEGIN:STANDARD
TZOFFSETFROM:-0400
TZOFFSETTO:-0500
TZNAME:EST
DTSTART:20231105T060000
END:STANDARD
END:VTIMEZONE
BEGIN:VEVENT
DTSTART;TZID=America/Toronto:20220402T140000
DTEND;TZID=America/Toronto:20220402T170000
DTSTAMP:20260425T075900
CREATED:20220307T155907Z
LAST-MODIFIED:20220401T145141Z
UID:3494-1648908000-1648918800@grandmotherscampaign.org
SUMMARY:Capital Grannies Canadian Museum for Human Rights Tour
DESCRIPTION:This virtual tour of the museum in Winnipeg is an opportunity to view its exhibits and galleries\, as well as its stunning architecture\, with an experienced tour guide. The gallery exhibits range from Indigenous perspectives and the right to safety and justice for Aboriginal women in Canada\, to human rights in a global setting\, with a gallery examining the Holocaust. The tour also presents powerful human rights stories\, including those of Nelson Mandela and of the Stephen Lewis Foundation (SLF) Grandmothers Campaign and the Hillcrest AIDS Centre. Join us to learn about human rights\, activism\, and how to inspire change.
URL:https://grandmotherscampaign.org/event/capital-grannies-canadian-museum-for-human-rights-tour/
CATEGORIES:Campaign-wide,Online
ATTACH;FMTTYPE=image/jpeg:https://grandmotherscampaign.org/wp-content/uploads/2022/03/HRM.jpg
ORGANIZER;CN="Capital Grannies":MAILTO:capitalgrannies@bell.net
END:VEVENT
BEGIN:VEVENT
DTSTART;TZID=America/Toronto:20220421T123000
DTEND;TZID=America/Toronto:20220421T133000
DTSTAMP:20260425T075900
CREATED:20220110T161854Z
LAST-MODIFIED:20220110T161854Z
UID:3282-1650544200-1650547800@grandmotherscampaign.org
SUMMARY:April Grandmothers Campaign-Wide Call (Online)
DESCRIPTION:Join the SLF Grandmothers Campaign team and members of grandmothers groups from across the Campaign for a Zoom call to share ideas and events\, support one another and learn more about activities happening within the grandmothers movement. \nRSVP to campaign@stephenlewisfoundation.org for the Zoom link or use the sign-up form in the members only section of the website.
URL:https://grandmotherscampaign.org/event/april-grandmothers-campaign-wide-call-online/
LOCATION:Zoom
CATEGORIES:Campaign-wide,Online
END:VEVENT
END:VCALENDAR