BEGIN:VCALENDAR
VERSION:2.0
PRODID:-//Grandmothers to Grandmothers Campaign - ECPv6.15.20//NONSGML v1.0//EN
CALSCALE:GREGORIAN
METHOD:PUBLISH
X-WR-CALNAME:Grandmothers to Grandmothers Campaign
X-ORIGINAL-URL:https://grandmotherscampaign.org
X-WR-CALDESC:Events for Grandmothers to Grandmothers Campaign
REFRESH-INTERVAL;VALUE=DURATION:PT1H
X-Robots-Tag:noindex
X-PUBLISHED-TTL:PT1H
BEGIN:VTIMEZONE
TZID:America/Toronto
BEGIN:DAYLIGHT
TZOFFSETFROM:-0500
TZOFFSETTO:-0400
TZNAME:EDT
DTSTART:20210314T070000
END:DAYLIGHT
BEGIN:STANDARD
TZOFFSETFROM:-0400
TZOFFSETTO:-0500
TZNAME:EST
DTSTART:20211107T060000
END:STANDARD
BEGIN:DAYLIGHT
TZOFFSETFROM:-0500
TZOFFSETTO:-0400
TZNAME:EDT
DTSTART:20220313T070000
END:DAYLIGHT
BEGIN:STANDARD
TZOFFSETFROM:-0400
TZOFFSETTO:-0500
TZNAME:EST
DTSTART:20221106T060000
END:STANDARD
BEGIN:DAYLIGHT
TZOFFSETFROM:-0500
TZOFFSETTO:-0400
TZNAME:EDT
DTSTART:20230312T070000
END:DAYLIGHT
BEGIN:STANDARD
TZOFFSETFROM:-0400
TZOFFSETTO:-0500
TZNAME:EST
DTSTART:20231105T060000
END:STANDARD
BEGIN:DAYLIGHT
TZOFFSETFROM:-0500
TZOFFSETTO:-0400
TZNAME:EDT
DTSTART:20240310T070000
END:DAYLIGHT
BEGIN:STANDARD
TZOFFSETFROM:-0400
TZOFFSETTO:-0500
TZNAME:EST
DTSTART:20241103T060000
END:STANDARD
BEGIN:DAYLIGHT
TZOFFSETFROM:-0500
TZOFFSETTO:-0400
TZNAME:EDT
DTSTART:20250309T070000
END:DAYLIGHT
BEGIN:STANDARD
TZOFFSETFROM:-0400
TZOFFSETTO:-0500
TZNAME:EST
DTSTART:20251102T060000
END:STANDARD
END:VTIMEZONE
BEGIN:VEVENT
DTSTART;TZID=America/Toronto:20220922T123000
DTEND;TZID=America/Toronto:20220922T133000
DTSTAMP:20260425T230427
CREATED:20220906T153055Z
LAST-MODIFIED:20220906T153055Z
UID:4078-1663849800-1663853400@grandmotherscampaign.org
SUMMARY:Grandmothers Campaign Monthly Zoom Call
DESCRIPTION:Join us for our monthly Grandmothers Campaign Zoom call to hear updates from grandmothers groups\, updates from the Stephen Lewis Foundation\, and an update from the Diversity\, Inclusion\, Recruitment and Retention Committee. \nEmail campaign@stephenlewisfoundation.org to RSVP.
URL:https://grandmotherscampaign.org/event/grandmothers-campaign-monthly-zoom-call/
LOCATION:Zoom
CATEGORIES:Campaign-wide,Online
END:VEVENT
BEGIN:VEVENT
DTSTART;TZID=America/Toronto:20221020T123000
DTEND;TZID=America/Toronto:20221020T133000
DTSTAMP:20260425T230427
CREATED:20221017T185611Z
LAST-MODIFIED:20221017T185642Z
UID:4224-1666269000-1666272600@grandmotherscampaign.org
SUMMARY:October Grandmothers Campaign Zoom Call
DESCRIPTION:To celebrate the upcoming 20th anniversary of the Stephen Lewis Foundation\, we are creating a collaborative quilt to artistically represent the solidarity that is at the heart of the Grandmothers to Grandmothers Campaign. More information and a call for contributions was shared in the October Granny Bulletin. \nJoin our October Grandmothers Campaign to discuss the quilt and ask any questions you may have about the project\, including creating a contribution and getting more involved. All are welcome to join! \nEmail campaign@stephenlewisfoundation.org to RSVP.
URL:https://grandmotherscampaign.org/event/october-grandmothers-campaign-zoom/
LOCATION:Zoom
CATEGORIES:Campaign-wide
ATTACH;FMTTYPE=image/png:https://grandmotherscampaign.org/wp-content/uploads/2022/10/7f153b35-a02b-5ba6-45a3-ea1cb9883d73.png
END:VEVENT
BEGIN:VEVENT
DTSTART;TZID=America/Toronto:20230117T123000
DTEND;TZID=America/Toronto:20230117T140000
DTSTAMP:20260425T230427
CREATED:20230109T153706Z
LAST-MODIFIED:20230109T153953Z
UID:4506-1673958600-1673964000@grandmotherscampaign.org
SUMMARY:Grandmothers Campaign Advocacy Webinar (Online)
DESCRIPTION:Join us this month for a special webinar on the topic of advocacy and the Grandmothers Campaign\, hosted by the Stephen Lewis Foundation and GRAN.\n\n\n\nEmail rsvp@stephenlewisfoundation.org to receive the link to the webinar\, happening January 17th from 12:30 – 2pm ET.
URL:https://grandmotherscampaign.org/event/grandmothers-campaign-advocacy-webinar-online/
CATEGORIES:Campaign-wide,Online
ATTACH;FMTTYPE=image/jpeg:https://grandmotherscampaign.org/wp-content/uploads/2023/01/Advocacy-Webinar-Facebook-Post-Image.jpg
END:VEVENT
BEGIN:VEVENT
DTSTART;TZID=America/Toronto:20230216T123000
DTEND;TZID=America/Toronto:20230216T133000
DTSTAMP:20260425T230427
CREATED:20230130T221722Z
LAST-MODIFIED:20230130T221722Z
UID:4553-1676550600-1676554200@grandmotherscampaign.org
SUMMARY:February Campaign Call
DESCRIPTION:All members of the Grandmothers to Grandmothers Campaign are welcome to join us for our monthly Zoom call! This month we’ll have a fundraising sharing circle\, and invite groups to come and share a fundraising event or idea that has been fun and successful for their group. We’ve had requests for events that can be organized easily by smaller groups. \nEmail campaign@stephenlewisfoundation.org to RSVP and receive the Zoom link.
URL:https://grandmotherscampaign.org/event/february-campaign-call-2/
LOCATION:Zoom
CATEGORIES:Campaign-wide,Online
END:VEVENT
BEGIN:VEVENT
DTSTART;TZID=America/Toronto:20230316T123000
DTEND;TZID=America/Toronto:20230316T133000
DTSTAMP:20260425T230427
CREATED:20230130T221951Z
LAST-MODIFIED:20230130T221951Z
UID:4555-1678969800-1678973400@grandmotherscampaign.org
SUMMARY:March Campaign Call
DESCRIPTION:All members of the Grandmothers to Grandmothers Campaign are welcome to join us for our monthly Zoom call! This month we’ll talk about recruitment\, and invite groups to come and share strategies and ideas that have been successful for their group. \nEmail campaign@stephenlewisfoundation.org to RSVP and receive the Zoom link.
URL:https://grandmotherscampaign.org/event/march-campaign-call-2/
LOCATION:Zoom
CATEGORIES:Campaign-wide,Online
END:VEVENT
BEGIN:VEVENT
DTSTART;TZID=America/Toronto:20240907T100000
DTEND;TZID=America/Toronto:20240907T140000
DTSTAMP:20260425T230427
CREATED:20240819T150528Z
LAST-MODIFIED:20240819T150528Z
UID:7495-1725703200-1725717600@grandmotherscampaign.org
SUMMARY:Clothesline Event Celebrating Grandparents Day
DESCRIPTION:A gathering of Grannies and Grandothers on the lawn of our Community Center in Hudson\, QC on Saturday\, Sept. 7th in support of the National Clothesline Campaign.  In addition to a clothesline with all sorts of clothes\, fun items and key messages\, we will have a perennial plant and bake sale.
URL:https://grandmotherscampaign.org/event/clothesline-event-celebrating-grandparents-day/
LOCATION:Hudson Community Center\, 481 Main Road\, Hudson\, QC\, J0P 1H0\, Canada
CATEGORIES:Campaign-wide,In-person
ATTACH;FMTTYPE=image/jpeg:https://grandmotherscampaign.org/wp-content/uploads/2024/08/Poster-for-Grandparents-Day.jpg
END:VEVENT
BEGIN:VEVENT
DTSTART;TZID=America/Toronto:20241121T110000
DTEND;TZID=America/Toronto:20241121T120000
DTSTAMP:20260425T230427
CREATED:20241030T174021Z
LAST-MODIFIED:20241030T174021Z
UID:8024-1732186800-1732190400@grandmotherscampaign.org
SUMMARY:Farm Orphan Support Trust (FOST) joins the November Campaign call
DESCRIPTION:This month leaders from Farm Orphan Support Trust (FOST) will join our Campaign call! \nAn SLF partner since 2008\, FOST was created to respond to increasing numbers of children who had lost their parents to AIDS-related illnesses in Zimbabwe. Today this community-led organization continues to provide vital care and support to those who need it most. This includes supporting grandmothers who are courageously and compassionately raising the next generation. \nCome and hear from FOST about their work. Email campaign@stephenlewisfoundation.org to RSVP.
URL:https://grandmotherscampaign.org/event/farm-orphan-support-trust-fost-joins-the-november-campaign-call/
LOCATION:Zoom
CATEGORIES:Campaign-wide,Online
END:VEVENT
END:VCALENDAR