BEGIN:VCALENDAR
VERSION:2.0
PRODID:-//Grandmothers to Grandmothers Campaign - ECPv6.15.20//NONSGML v1.0//EN
CALSCALE:GREGORIAN
METHOD:PUBLISH
X-WR-CALNAME:Grandmothers to Grandmothers Campaign
X-ORIGINAL-URL:https://grandmotherscampaign.org
X-WR-CALDESC:Events for Grandmothers to Grandmothers Campaign
REFRESH-INTERVAL;VALUE=DURATION:PT1H
X-Robots-Tag:noindex
X-PUBLISHED-TTL:PT1H
BEGIN:VTIMEZONE
TZID:America/Vancouver
BEGIN:DAYLIGHT
TZOFFSETFROM:-0800
TZOFFSETTO:-0700
TZNAME:PDT
DTSTART:20190310T100000
END:DAYLIGHT
BEGIN:STANDARD
TZOFFSETFROM:-0700
TZOFFSETTO:-0800
TZNAME:PST
DTSTART:20191103T090000
END:STANDARD
BEGIN:DAYLIGHT
TZOFFSETFROM:-0800
TZOFFSETTO:-0700
TZNAME:PDT
DTSTART:20200308T100000
END:DAYLIGHT
BEGIN:STANDARD
TZOFFSETFROM:-0700
TZOFFSETTO:-0800
TZNAME:PST
DTSTART:20201101T090000
END:STANDARD
BEGIN:DAYLIGHT
TZOFFSETFROM:-0800
TZOFFSETTO:-0700
TZNAME:PDT
DTSTART:20210314T100000
END:DAYLIGHT
BEGIN:STANDARD
TZOFFSETFROM:-0700
TZOFFSETTO:-0800
TZNAME:PST
DTSTART:20211107T090000
END:STANDARD
END:VTIMEZONE
BEGIN:VTIMEZONE
TZID:America/Edmonton
BEGIN:DAYLIGHT
TZOFFSETFROM:-0700
TZOFFSETTO:-0600
TZNAME:MDT
DTSTART:20190310T090000
END:DAYLIGHT
BEGIN:STANDARD
TZOFFSETFROM:-0600
TZOFFSETTO:-0700
TZNAME:MST
DTSTART:20191103T080000
END:STANDARD
BEGIN:DAYLIGHT
TZOFFSETFROM:-0700
TZOFFSETTO:-0600
TZNAME:MDT
DTSTART:20200308T090000
END:DAYLIGHT
BEGIN:STANDARD
TZOFFSETFROM:-0600
TZOFFSETTO:-0700
TZNAME:MST
DTSTART:20201101T080000
END:STANDARD
BEGIN:DAYLIGHT
TZOFFSETFROM:-0700
TZOFFSETTO:-0600
TZNAME:MDT
DTSTART:20210314T090000
END:DAYLIGHT
BEGIN:STANDARD
TZOFFSETFROM:-0600
TZOFFSETTO:-0700
TZNAME:MST
DTSTART:20211107T080000
END:STANDARD
END:VTIMEZONE
BEGIN:VEVENT
DTSTART;TZID=America/Vancouver:20201116T090000
DTEND;TZID=America/Vancouver:20201116T235900
DTSTAMP:20260425T081533
CREATED:20201112T204831Z
LAST-MODIFIED:20201125T204840Z
UID:1252-1605517200-1605571140@grandmotherscampaign.org
SUMMARY:A La Carte Kitchenware Sale (Online\, Multi-day)
DESCRIPTION:
URL:https://grandmotherscampaign.org/event/a-la-carte-kitchenware-sale/
LOCATION:Facebook
CATEGORIES:Multi-day,Online
ATTACH;FMTTYPE=image/png:https://grandmotherscampaign.org/wp-content/uploads/2020/11/Burnaby-Gogos-Kitchen-Sales.png
ORGANIZER;CN="Burnaby Gogos":MAILTO:burnabygogos2@gmail.com
END:VEVENT
BEGIN:VEVENT
DTSTART;TZID=America/Vancouver:20201127T080000
DTEND;TZID=America/Vancouver:20201127T210000
DTSTAMP:20260425T081533
CREATED:20201124T153749Z
LAST-MODIFIED:20201125T204819Z
UID:1491-1606464000-1606510800@grandmotherscampaign.org
SUMMARY:FINAL DAY: A La Carte Kitchenware Sale (Online\, Multi-day)
DESCRIPTION:
URL:https://grandmotherscampaign.org/event/final-day-a-la-carte-kitchenware-sale-online-multi-day/
LOCATION:Facebook
CATEGORIES:Multi-day,Online
ATTACH;FMTTYPE=image/png:https://grandmotherscampaign.org/wp-content/uploads/2020/11/Burnaby-Gogos-Kitchen-Sales.png
ORGANIZER;CN="Burnaby Gogos":MAILTO:burnabygogos2@gmail.com
END:VEVENT
BEGIN:VEVENT
DTSTART;TZID=America/Edmonton:20201128T100000
DTEND;TZID=America/Edmonton:20201128T130000
DTSTAMP:20260425T081533
CREATED:20201124T145638Z
LAST-MODIFIED:20201127T022148Z
UID:1470-1606557600-1606568400@grandmotherscampaign.org
SUMMARY:Camrose Saturday Farmers' Market (In-person)
DESCRIPTION:The Grateful Grannies will be at the Camrose Saturday Farmers Market at Duggan Mall in Camrose\, Alberta\, on Saturdays from November 28th through December 21 from 10 am – 1 pm.
URL:https://grandmotherscampaign.org/event/camrose-saturday-farmers-market-in-person/
LOCATION:Duggan Mall\, 6601-48 Ave\, Camrose\, Alberta\, T4V 0A5\, Canada
CATEGORIES:In-person,Multi-day
ATTACH;FMTTYPE=image/jpeg:https://grandmotherscampaign.org/wp-content/uploads/2020/11/126406005_2794619994129422_8856462138959566177_o.jpg
END:VEVENT
END:VCALENDAR