BEGIN:VCALENDAR
VERSION:2.0
PRODID:-//Grandmothers to Grandmothers Campaign - ECPv6.15.20//NONSGML v1.0//EN
CALSCALE:GREGORIAN
METHOD:PUBLISH
X-ORIGINAL-URL:https://grandmotherscampaign.org
X-WR-CALDESC:Events for Grandmothers to Grandmothers Campaign
REFRESH-INTERVAL;VALUE=DURATION:PT1H
X-Robots-Tag:noindex
X-PUBLISHED-TTL:PT1H
BEGIN:VTIMEZONE
TZID:America/Toronto
BEGIN:DAYLIGHT
TZOFFSETFROM:-0500
TZOFFSETTO:-0400
TZNAME:EDT
DTSTART:20200308T070000
END:DAYLIGHT
BEGIN:STANDARD
TZOFFSETFROM:-0400
TZOFFSETTO:-0500
TZNAME:EST
DTSTART:20201101T060000
END:STANDARD
BEGIN:DAYLIGHT
TZOFFSETFROM:-0500
TZOFFSETTO:-0400
TZNAME:EDT
DTSTART:20210314T070000
END:DAYLIGHT
BEGIN:STANDARD
TZOFFSETFROM:-0400
TZOFFSETTO:-0500
TZNAME:EST
DTSTART:20211107T060000
END:STANDARD
BEGIN:DAYLIGHT
TZOFFSETFROM:-0500
TZOFFSETTO:-0400
TZNAME:EDT
DTSTART:20220313T070000
END:DAYLIGHT
BEGIN:STANDARD
TZOFFSETFROM:-0400
TZOFFSETTO:-0500
TZNAME:EST
DTSTART:20221106T060000
END:STANDARD
END:VTIMEZONE
BEGIN:VEVENT
DTSTART;TZID=America/Toronto:20210505T080000
DTEND;TZID=America/Toronto:20210505T235900
DTSTAMP:20260424T231041
CREATED:20210421T134124Z
LAST-MODIFIED:20210421T134235Z
UID:2423-1620201600-1620259140@grandmotherscampaign.org
SUMMARY:Final Day: Mother's Day Madness:  A Spectacular Silent Auction (Multi-day\, Online)
DESCRIPTION:Grandmothers 4 Grandmothers Regina is pleased to present its first on-line silent auction. All proceeds from the auction go to the Grandmothers Campaign of the Stephen Lewis Foundation to support grandmothers in sub-Saharan Africa raising children orphaned by AIDS. To register and start bidding\, please go to 32auctions.com/mda2021. You’ll see lots of beautiful items for Mother’s Day or for any day. You are bound to find something for that special someone in your life.
URL:https://grandmotherscampaign.org/event/final-day-mothers-day-madness-a-spectacular-silent-auction-multi-day-online/
LOCATION:Online
CATEGORIES:Multi-day,Online
ATTACH;FMTTYPE=image/jpeg:https://grandmotherscampaign.org/wp-content/uploads/2021/04/MDSA-Poster-2021.jpg
ORGANIZER;CN="Grandmothers 4 Grandmothers Regina":MAILTO:g4gregina@gmail.com
END:VEVENT
BEGIN:VEVENT
DTSTART;TZID=America/Toronto:20210508T080000
DTEND;TZID=America/Toronto:20210508T230000
DTSTAMP:20260424T231041
CREATED:20210427T201930Z
LAST-MODIFIED:20210427T201930Z
UID:2488-1620460800-1620514800@grandmotherscampaign.org
SUMMARY:Spring Plant Sale (Multi-day)
DESCRIPTION:The Gorgeous Grannies & Friends spring plant sale runs from May 8 – May 24. Pre-order and pick up your plants or have them delivered to you with a minimum order of $50. Various payment options are available.
URL:https://grandmotherscampaign.org/event/spring-plant-sale-multi-day/
CATEGORIES:Multi-day
ORGANIZER;CN="Gorgeous Grannies and Friends":MAILTO:gorgeousgrannies2010@yahoo.com
END:VEVENT
BEGIN:VEVENT
DTSTART;TZID=America/Toronto:20210510T100000
DTEND;TZID=America/Toronto:20210510T160000
DTSTAMP:20260424T231041
CREATED:20210303T131950Z
LAST-MODIFIED:20210303T131950Z
UID:2219-1620640800-1620662400@grandmotherscampaign.org
SUMMARY:Plant Sale (In-Person\, Multi-Day)
DESCRIPTION:The Unitarian Gogo’s annual spring plant sale is back! Get your garden and perennial plants and many more. Curbside pick up only.
URL:https://grandmotherscampaign.org/event/plant-sale-in-person-multi-day/
LOCATION:725 Dovercourt Ave\, Ottawa\, ON K2A 0W9\, Canada\, 725 Dovercourt Ave\, Ottawa\, Ontario\, K2A 0W9\, Canada
CATEGORIES:In-person,Multi-day
ORGANIZER;CN="Unitarian Gogos":MAILTO:gogos.plant.sale@gmail.com
END:VEVENT
BEGIN:VEVENT
DTSTART;TZID=America/Toronto:20210522T100000
DTEND;TZID=America/Toronto:20210522T160000
DTSTAMP:20260424T231041
CREATED:20210303T132150Z
LAST-MODIFIED:20210303T132150Z
UID:2226-1621677600-1621699200@grandmotherscampaign.org
SUMMARY:Final Day: Plant Sale (In-Person\, Multi-Day)
DESCRIPTION:The Unitarian Gogo’s annual spring plant sale is back! Get your garden and perennial plants and many more. Curbside pick up only.
URL:https://grandmotherscampaign.org/event/final-day-plant-sale-in-person-multi-day/
LOCATION:725 Dovercourt Ave\, Ottawa\, ON K2A 0W9\, Canada\, 725 Dovercourt Ave\, Ottawa\, Ontario\, K2A 0W9\, Canada
CATEGORIES:In-person,Multi-day
ORGANIZER;CN="Unitarian Gogos":MAILTO:gogos.plant.sale@gmail.com
END:VEVENT
BEGIN:VEVENT
DTSTART;TZID=America/Toronto:20210524T080000
DTEND;TZID=America/Toronto:20210524T210000
DTSTAMP:20260424T231041
CREATED:20210427T202638Z
LAST-MODIFIED:20210427T202638Z
UID:2496-1621843200-1621890000@grandmotherscampaign.org
SUMMARY:Spring Plant Sale (Multi-day)
DESCRIPTION:The Gorgeous Grannies & Friends spring plant sale runs from May 8 – May 24. Pre-order and pick up your plants or have them delivered to you with a minimum order of $50. Various payment options are available.
URL:https://grandmotherscampaign.org/event/spring-plant-sale-multi-day-2/
CATEGORIES:Multi-day
ORGANIZER;CN="Gorgeous Grannies and Friends":MAILTO:gorgeousgrannies2010@yahoo.com
END:VEVENT
BEGIN:VEVENT
DTSTART;TZID=America/Toronto:20210530T000000
DTEND;TZID=America/Toronto:20210530T233000
DTSTAMP:20260424T231041
CREATED:20210412T191301Z
LAST-MODIFIED:20210412T191301Z
UID:2402-1622332800-1622417400@grandmotherscampaign.org
SUMMARY:Final Day: The Forgotten Home Child (Multi-Day\, Online)
DESCRIPTION:This is the second event in the Old Orchard Blossoms’ and BramGrans’ series of author conversations which are focused on some aspect of immigration to Canada. Genevieve Graham’s novel\, The Forgotten Home Child\, examines the lives of orphaned children\, or children living in poverty who were shipped from Britain to Canada from 1869 to 1948 to work on farms and as domestics\, supposedly to give them a better life. This relatively unknown chapter in Canadian history comes to life as Ms. Graham uses her extensive research to develop her characters and her plot. She will be interviewed by best-selling historical fiction writer\, Jennifer Robson. You will enjoy their discussions of the book\, the research\, the writing of historical fiction\, and also learn about their newest novels. \nThis pre-recorded event will be available to watch from May 22 until May 30\, inclusive. A link to the YouTube video will be sent to all registrants a few days before the start date. \nGenevieve Graham is a best-selling author of historical fiction. Her mission is to bring Canadian history to life through her fiction\, and her most recent 6 books focus on different Canadian historical events and the people who lived through them. She was brought up in Toronto\, trained as a musician and now lives in Nova Scotia. Jennifer Robson is another best-selling historical fiction author who has written six novels set during and after the two world wars. She has a Ph.D. in British economic and social history from Oxford\, is a former editor\, and now lives in Toronto. \nThere is no cost to register or to attend this event; however we do hope you will consider making a donation to the Stephen Lewis Foundation’s Grandmothers Campaign. Your contributions will ensure that vital programs through grassroots organizations will be sustainable for the African grandmothers and the children in their care. Donations of $20 or more will receive a tax receipt. \nRegister at: https://www.eventbrite.ca/e/the-forgotten-home-child-registration-146982609943
URL:https://grandmotherscampaign.org/event/final-day-the-forgotten-home-child-multi-day-online/
LOCATION:Online
CATEGORIES:Multi-day,Online
ATTACH;FMTTYPE=image/jpeg:https://grandmotherscampaign.org/wp-content/uploads/2021/04/Forgotten-Home-Child-Final-Poster.jpg
ORGANIZER;CN="Old Orchard Blossoms":MAILTO:oldorchardblossoms@gmail.com
END:VEVENT
END:VCALENDAR