BEGIN:VCALENDAR
VERSION:2.0
PRODID:-//Grandmothers to Grandmothers Campaign - ECPv6.15.20//NONSGML v1.0//EN
CALSCALE:GREGORIAN
METHOD:PUBLISH
X-WR-CALNAME:Grandmothers to Grandmothers Campaign
X-ORIGINAL-URL:https://grandmotherscampaign.org
X-WR-CALDESC:Events for Grandmothers to Grandmothers Campaign
REFRESH-INTERVAL;VALUE=DURATION:PT1H
X-Robots-Tag:noindex
X-PUBLISHED-TTL:PT1H
BEGIN:VTIMEZONE
TZID:America/Toronto
BEGIN:DAYLIGHT
TZOFFSETFROM:-0500
TZOFFSETTO:-0400
TZNAME:EDT
DTSTART:20200308T070000
END:DAYLIGHT
BEGIN:STANDARD
TZOFFSETFROM:-0400
TZOFFSETTO:-0500
TZNAME:EST
DTSTART:20201101T060000
END:STANDARD
BEGIN:DAYLIGHT
TZOFFSETFROM:-0500
TZOFFSETTO:-0400
TZNAME:EDT
DTSTART:20210314T070000
END:DAYLIGHT
BEGIN:STANDARD
TZOFFSETFROM:-0400
TZOFFSETTO:-0500
TZNAME:EST
DTSTART:20211107T060000
END:STANDARD
BEGIN:DAYLIGHT
TZOFFSETFROM:-0500
TZOFFSETTO:-0400
TZNAME:EDT
DTSTART:20220313T070000
END:DAYLIGHT
BEGIN:STANDARD
TZOFFSETFROM:-0400
TZOFFSETTO:-0500
TZNAME:EST
DTSTART:20221106T060000
END:STANDARD
END:VTIMEZONE
BEGIN:VEVENT
DTSTART;TZID=America/Toronto:20210729T000000
DTEND;TZID=America/Toronto:20210729T235900
DTSTAMP:20260424T200852
CREATED:20210323T162047Z
LAST-MODIFIED:20210526T151637Z
UID:2339-1627516800-1627603140@grandmotherscampaign.org
SUMMARY:Grandmothers' Actions for Africa (Multi-Day\, Last Day)
DESCRIPTION:The GANG in Edmonton is hosting a 15 week event to raise awareness\, create community and raise money. Members are encouraged to identify an action that will work for them and request donations for the campaign. The actions can be walking\, biking\, knitting\, baking\, reading\, gardening….etc. whatever is doable. We will celebrate the 15 African countries week by week and celebrate our accomplishments every week. A fun way to work and play together.
URL:https://grandmotherscampaign.org/event/grandmothers-actions-for-africa-multi-day-2/
CATEGORIES:Multi-day
END:VEVENT
END:VCALENDAR