BEGIN:VCALENDAR
VERSION:2.0
PRODID:-//Grandmothers to Grandmothers Campaign - ECPv6.15.20//NONSGML v1.0//EN
CALSCALE:GREGORIAN
METHOD:PUBLISH
X-WR-CALNAME:Grandmothers to Grandmothers Campaign
X-ORIGINAL-URL:https://grandmotherscampaign.org
X-WR-CALDESC:Events for Grandmothers to Grandmothers Campaign
REFRESH-INTERVAL;VALUE=DURATION:PT1H
X-Robots-Tag:noindex
X-PUBLISHED-TTL:PT1H
BEGIN:VTIMEZONE
TZID:America/Toronto
BEGIN:DAYLIGHT
TZOFFSETFROM:-0500
TZOFFSETTO:-0400
TZNAME:EDT
DTSTART:20200308T070000
END:DAYLIGHT
BEGIN:STANDARD
TZOFFSETFROM:-0400
TZOFFSETTO:-0500
TZNAME:EST
DTSTART:20201101T060000
END:STANDARD
BEGIN:DAYLIGHT
TZOFFSETFROM:-0500
TZOFFSETTO:-0400
TZNAME:EDT
DTSTART:20210314T070000
END:DAYLIGHT
BEGIN:STANDARD
TZOFFSETFROM:-0400
TZOFFSETTO:-0500
TZNAME:EST
DTSTART:20211107T060000
END:STANDARD
BEGIN:DAYLIGHT
TZOFFSETFROM:-0500
TZOFFSETTO:-0400
TZNAME:EDT
DTSTART:20220313T070000
END:DAYLIGHT
BEGIN:STANDARD
TZOFFSETFROM:-0400
TZOFFSETTO:-0500
TZNAME:EST
DTSTART:20221106T060000
END:STANDARD
END:VTIMEZONE
BEGIN:VTIMEZONE
TZID:America/Edmonton
BEGIN:DAYLIGHT
TZOFFSETFROM:-0700
TZOFFSETTO:-0600
TZNAME:MDT
DTSTART:20200308T090000
END:DAYLIGHT
BEGIN:STANDARD
TZOFFSETFROM:-0600
TZOFFSETTO:-0700
TZNAME:MST
DTSTART:20201101T080000
END:STANDARD
BEGIN:DAYLIGHT
TZOFFSETFROM:-0700
TZOFFSETTO:-0600
TZNAME:MDT
DTSTART:20210314T090000
END:DAYLIGHT
BEGIN:STANDARD
TZOFFSETFROM:-0600
TZOFFSETTO:-0700
TZNAME:MST
DTSTART:20211107T080000
END:STANDARD
BEGIN:DAYLIGHT
TZOFFSETFROM:-0700
TZOFFSETTO:-0600
TZNAME:MDT
DTSTART:20220313T090000
END:DAYLIGHT
BEGIN:STANDARD
TZOFFSETFROM:-0600
TZOFFSETTO:-0700
TZNAME:MST
DTSTART:20221106T080000
END:STANDARD
END:VTIMEZONE
BEGIN:VEVENT
DTSTART;TZID=America/Toronto:20210910T080000
DTEND;TZID=America/Toronto:20210910T170000
DTSTAMP:20260424T170212
CREATED:20210504T160643Z
LAST-MODIFIED:20210526T151657Z
UID:2505-1631260800-1631293200@grandmotherscampaign.org
SUMMARY:Victoria Grandmothers for Africa Cycle Tour 2021 - Go Anywhere From Anywhere (Online\, Multi-Day\, Last Day)
DESCRIPTION:VG4A’s 15th annual Cycle Tour will again be a Covid-style individualized tour lasting for four weeks. Cyclists do not have to be members of a Grandmothers group. They can ride conventional bicycles\, unconventional bikes\, e-bikes or even stationary bikes. All women 55 or over are welcome\, from beginner to veteran. Each cyclist will set their own personal target for the period from August 14th to September 10th and report their weekly kilometres to their team captain. As the grand total of kilometres grows\, participants will be guided on a virtual tour of sub-Saharan African to meet some of the women working for the community-based organizations they are supporting. \nRegistration is $20. To receive the registration package and information as it develops\, OR if you have questions\, send your name to vg4acycleregistrar@gmail.com.
URL:https://grandmotherscampaign.org/event/victoria-grandmothers-for-africa-cycle-tour-2021-go-anywhere-from-anywhere-online-multi-day-2/
CATEGORIES:Multi-day,Online
ATTACH;FMTTYPE=image/jpeg:https://grandmotherscampaign.org/wp-content/uploads/2021/04/2020_training-in-smaller-groups-scaled.jpg
END:VEVENT
BEGIN:VEVENT
DTSTART;TZID=America/Edmonton:20210924T170000
DTEND;TZID=America/Edmonton:20210924T200000
DTSTAMP:20260424T170212
CREATED:20210706T160733Z
LAST-MODIFIED:20210706T161843Z
UID:2679-1632502800-1632513600@grandmotherscampaign.org
SUMMARY:GrammaLink- Africa's Fabulous Fabric Sale (In-person\, multi-day)
DESCRIPTION:Join GrammaLink Africa for the return of their Fabulous Fabric Sale at Gaetz United Church! Admission is $2.
URL:https://grandmotherscampaign.org/event/grammalink-africas-fabulous-fabric-sale-2/
LOCATION:Gaetz United Church\, 4758 Ross St\, Red Deer\, Alberta\, T4N 1X2\, Canada
CATEGORIES:In-person,Multi-day
ATTACH;FMTTYPE=image/jpeg:https://grandmotherscampaign.org/wp-content/uploads/2021/07/p4210973_orig.jpgFabric.jpg
END:VEVENT
BEGIN:VEVENT
DTSTART;TZID=America/Edmonton:20210925T090000
DTEND;TZID=America/Edmonton:20210925T140000
DTSTAMP:20260424T170212
CREATED:20210706T160501Z
LAST-MODIFIED:20210706T162739Z
UID:2681-1632560400-1632578400@grandmotherscampaign.org
SUMMARY:GrammaLink-Africa's Fabulous Fabric Sale (In-person\, multi-day)
DESCRIPTION:Join GrammaLink- Africa for the return of their Fabulous Fabric Sale at Gaetz United Church! Admission is $2
URL:https://grandmotherscampaign.org/event/grammalink-africas-fabulous-fabric-sale/
LOCATION:Gaetz United Church\, 4758 Ross St\, Red Deer\, Alberta\, T4N 1X2\, Canada
CATEGORIES:In-person,Multi-day
ATTACH;FMTTYPE=image/jpeg:https://grandmotherscampaign.org/wp-content/uploads/2021/07/p4210973_orig-1.jpgFabric-1.jpg
END:VEVENT
END:VCALENDAR