BEGIN:VCALENDAR
VERSION:2.0
PRODID:-//Grandmothers to Grandmothers Campaign - ECPv6.15.20//NONSGML v1.0//EN
CALSCALE:GREGORIAN
METHOD:PUBLISH
X-ORIGINAL-URL:https://grandmotherscampaign.org
X-WR-CALDESC:Events for Grandmothers to Grandmothers Campaign
REFRESH-INTERVAL;VALUE=DURATION:PT1H
X-Robots-Tag:noindex
X-PUBLISHED-TTL:PT1H
BEGIN:VTIMEZONE
TZID:America/Toronto
BEGIN:DAYLIGHT
TZOFFSETFROM:-0500
TZOFFSETTO:-0400
TZNAME:EDT
DTSTART:20190310T070000
END:DAYLIGHT
BEGIN:STANDARD
TZOFFSETFROM:-0400
TZOFFSETTO:-0500
TZNAME:EST
DTSTART:20191103T060000
END:STANDARD
BEGIN:DAYLIGHT
TZOFFSETFROM:-0500
TZOFFSETTO:-0400
TZNAME:EDT
DTSTART:20200308T070000
END:DAYLIGHT
BEGIN:STANDARD
TZOFFSETFROM:-0400
TZOFFSETTO:-0500
TZNAME:EST
DTSTART:20201101T060000
END:STANDARD
BEGIN:DAYLIGHT
TZOFFSETFROM:-0500
TZOFFSETTO:-0400
TZNAME:EDT
DTSTART:20210314T070000
END:DAYLIGHT
BEGIN:STANDARD
TZOFFSETFROM:-0400
TZOFFSETTO:-0500
TZNAME:EST
DTSTART:20211107T060000
END:STANDARD
END:VTIMEZONE
BEGIN:VEVENT
DTSTART;TZID=America/Toronto:20201203T080000
DTEND;TZID=America/Toronto:20201203T233000
DTSTAMP:20260425T081657
CREATED:20201203T175429Z
LAST-MODIFIED:20201203T175429Z
UID:1775-1606982400-1607038200@grandmotherscampaign.org
SUMMARY:The Life and Music of Bob Dylan (Online\, Multi-day)
DESCRIPTION:Toronto Grandmothers Embrace invites you to a sensational FREE musical event presented by the world-renowned musicologist Dr. Mike Daley sharing the story of the one and only Bob Dylan. \nEnjoy this incredible presentation at your leisure in the comfort of your own Covid-free environment any time between November 16th to December 6th. Register on Eventbrite (link below). \nNo charge. Donations to the Stephen Lewis Foundation welcome.
URL:https://grandmotherscampaign.org/event/the-life-and-music-of-bob-dylan-online-multi-day/
LOCATION:Online
CATEGORIES:Multi-day,Online
ATTACH;FMTTYPE=image/png:https://grandmotherscampaign.org/wp-content/uploads/2020/12/TGE-Bob-Dylan.png
END:VEVENT
END:VCALENDAR