BEGIN:VCALENDAR
VERSION:2.0
PRODID:-//Grandmothers to Grandmothers Campaign - ECPv6.15.20//NONSGML v1.0//EN
CALSCALE:GREGORIAN
METHOD:PUBLISH
X-ORIGINAL-URL:https://grandmotherscampaign.org
X-WR-CALDESC:Events for Grandmothers to Grandmothers Campaign
REFRESH-INTERVAL;VALUE=DURATION:PT1H
X-Robots-Tag:noindex
X-PUBLISHED-TTL:PT1H
BEGIN:VTIMEZONE
TZID:America/Toronto
BEGIN:DAYLIGHT
TZOFFSETFROM:-0500
TZOFFSETTO:-0400
TZNAME:EDT
DTSTART:20220313T070000
END:DAYLIGHT
BEGIN:STANDARD
TZOFFSETFROM:-0400
TZOFFSETTO:-0500
TZNAME:EST
DTSTART:20221106T060000
END:STANDARD
BEGIN:DAYLIGHT
TZOFFSETFROM:-0500
TZOFFSETTO:-0400
TZNAME:EDT
DTSTART:20230312T070000
END:DAYLIGHT
BEGIN:STANDARD
TZOFFSETFROM:-0400
TZOFFSETTO:-0500
TZNAME:EST
DTSTART:20231105T060000
END:STANDARD
BEGIN:DAYLIGHT
TZOFFSETFROM:-0500
TZOFFSETTO:-0400
TZNAME:EDT
DTSTART:20240310T070000
END:DAYLIGHT
BEGIN:STANDARD
TZOFFSETFROM:-0400
TZOFFSETTO:-0500
TZNAME:EST
DTSTART:20241103T060000
END:STANDARD
END:VTIMEZONE
BEGIN:VEVENT
DTSTART;TZID=America/Toronto:20230307T150000
DTEND;TZID=America/Toronto:20230307T170000
DTSTAMP:20260419T161537
CREATED:20230221T184411Z
LAST-MODIFIED:20230221T184411Z
UID:4641-1678201200-1678208400@grandmotherscampaign.org
SUMMARY:Grand(m)others to Grandmothers 15th Annual Scrabble Fundraiser
DESCRIPTION:Three chances to play on Salt Spring in March! Games\, prizes and fun!
URL:https://grandmotherscampaign.org/event/grandmothers-to-grandmothers-15th-annual-scrabble-fundraiser/
LOCATION:Salt Spring Inn\, 132 Lower Ganges Rd\, Salt Spring Island\, British Columbia\, V8K 2S9\, Canada
CATEGORIES:In-person,Multi-day
ATTACH;FMTTYPE=image/jpeg:https://grandmotherscampaign.org/wp-content/uploads/2023/02/2023-Scrabble-Poster-page-001-scaled-e1677004944316.jpg
END:VEVENT
END:VCALENDAR