BEGIN:VCALENDAR
VERSION:2.0
PRODID:-//Grandmothers to Grandmothers Campaign - ECPv6.15.20//NONSGML v1.0//EN
CALSCALE:GREGORIAN
METHOD:PUBLISH
X-WR-CALNAME:Grandmothers to Grandmothers Campaign
X-ORIGINAL-URL:https://grandmotherscampaign.org
X-WR-CALDESC:Events for Grandmothers to Grandmothers Campaign
REFRESH-INTERVAL;VALUE=DURATION:PT1H
X-Robots-Tag:noindex
X-PUBLISHED-TTL:PT1H
BEGIN:VTIMEZONE
TZID:America/Edmonton
BEGIN:DAYLIGHT
TZOFFSETFROM:-0700
TZOFFSETTO:-0600
TZNAME:MDT
DTSTART:20220313T090000
END:DAYLIGHT
BEGIN:STANDARD
TZOFFSETFROM:-0600
TZOFFSETTO:-0700
TZNAME:MST
DTSTART:20221106T080000
END:STANDARD
BEGIN:DAYLIGHT
TZOFFSETFROM:-0700
TZOFFSETTO:-0600
TZNAME:MDT
DTSTART:20230312T090000
END:DAYLIGHT
BEGIN:STANDARD
TZOFFSETFROM:-0600
TZOFFSETTO:-0700
TZNAME:MST
DTSTART:20231105T080000
END:STANDARD
BEGIN:DAYLIGHT
TZOFFSETFROM:-0700
TZOFFSETTO:-0600
TZNAME:MDT
DTSTART:20240310T090000
END:DAYLIGHT
BEGIN:STANDARD
TZOFFSETFROM:-0600
TZOFFSETTO:-0700
TZNAME:MST
DTSTART:20241103T080000
END:STANDARD
END:VTIMEZONE
BEGIN:VEVENT
DTSTART;TZID=America/Edmonton:20231028T100000
DTEND;TZID=America/Edmonton:20231028T150000
DTSTAMP:20260421T043051
CREATED:20230927T143705Z
LAST-MODIFIED:20230927T143705Z
UID:5944-1698487200-1698505200@grandmotherscampaign.org
SUMMARY:Bags\, Babies & Beyond
DESCRIPTION:Handcrafted items\, made with love by friends and members of Ujamaa Grandmas (www.ujamaagrandmas.com)\, will be available for sale at our annual BAGS\, BABIES & BEYOND. \nItems for sale include scarves\, mitts\, hats\, shawls\, seasonal items\, children’s clothing and toys\, jewelry\, and our famous handcrafted bags. \nEntry is free today – No tickets required.
URL:https://grandmotherscampaign.org/event/bags-babies-beyond-2/
LOCATION:Marda Loop Communities Association\, 3130 16th St. SW\, Calgary\, Alberta\, Canada
CATEGORIES:Multi-day
ATTACH;FMTTYPE=image/jpeg:https://grandmotherscampaign.org/wp-content/uploads/2023/09/jpg-poster-2-e1695825418577.jpg
ORGANIZER;CN="Ujamaa Grandmas":MAILTO:message@ujamaagrandmas.com
END:VEVENT
END:VCALENDAR