BEGIN:VCALENDAR
VERSION:2.0
PRODID:-//Grandmothers to Grandmothers Campaign - ECPv6.15.20//NONSGML v1.0//EN
CALSCALE:GREGORIAN
METHOD:PUBLISH
X-WR-CALNAME:Grandmothers to Grandmothers Campaign
X-ORIGINAL-URL:https://grandmotherscampaign.org
X-WR-CALDESC:Events for Grandmothers to Grandmothers Campaign
REFRESH-INTERVAL;VALUE=DURATION:PT1H
X-Robots-Tag:noindex
X-PUBLISHED-TTL:PT1H
BEGIN:VTIMEZONE
TZID:America/Toronto
BEGIN:DAYLIGHT
TZOFFSETFROM:-0500
TZOFFSETTO:-0400
TZNAME:EDT
DTSTART:20200308T070000
END:DAYLIGHT
BEGIN:STANDARD
TZOFFSETFROM:-0400
TZOFFSETTO:-0500
TZNAME:EST
DTSTART:20201101T060000
END:STANDARD
BEGIN:DAYLIGHT
TZOFFSETFROM:-0500
TZOFFSETTO:-0400
TZNAME:EDT
DTSTART:20210314T070000
END:DAYLIGHT
BEGIN:STANDARD
TZOFFSETFROM:-0400
TZOFFSETTO:-0500
TZNAME:EST
DTSTART:20211107T060000
END:STANDARD
BEGIN:DAYLIGHT
TZOFFSETFROM:-0500
TZOFFSETTO:-0400
TZNAME:EDT
DTSTART:20220313T070000
END:DAYLIGHT
BEGIN:STANDARD
TZOFFSETFROM:-0400
TZOFFSETTO:-0500
TZNAME:EST
DTSTART:20221106T060000
END:STANDARD
END:VTIMEZONE
BEGIN:VTIMEZONE
TZID:America/Edmonton
BEGIN:DAYLIGHT
TZOFFSETFROM:-0700
TZOFFSETTO:-0600
TZNAME:MDT
DTSTART:20200308T090000
END:DAYLIGHT
BEGIN:STANDARD
TZOFFSETFROM:-0600
TZOFFSETTO:-0700
TZNAME:MST
DTSTART:20201101T080000
END:STANDARD
BEGIN:DAYLIGHT
TZOFFSETFROM:-0700
TZOFFSETTO:-0600
TZNAME:MDT
DTSTART:20210314T090000
END:DAYLIGHT
BEGIN:STANDARD
TZOFFSETFROM:-0600
TZOFFSETTO:-0700
TZNAME:MST
DTSTART:20211107T080000
END:STANDARD
BEGIN:DAYLIGHT
TZOFFSETFROM:-0700
TZOFFSETTO:-0600
TZNAME:MDT
DTSTART:20220313T090000
END:DAYLIGHT
BEGIN:STANDARD
TZOFFSETFROM:-0600
TZOFFSETTO:-0700
TZNAME:MST
DTSTART:20221106T080000
END:STANDARD
END:VTIMEZONE
BEGIN:VTIMEZONE
TZID:America/Regina
BEGIN:STANDARD
TZOFFSETFROM:-0600
TZOFFSETTO:-0600
TZNAME:CST
DTSTART:20200101T000000
END:STANDARD
END:VTIMEZONE
BEGIN:VTIMEZONE
TZID:America/Vancouver
BEGIN:DAYLIGHT
TZOFFSETFROM:-0800
TZOFFSETTO:-0700
TZNAME:PDT
DTSTART:20200308T100000
END:DAYLIGHT
BEGIN:STANDARD
TZOFFSETFROM:-0700
TZOFFSETTO:-0800
TZNAME:PST
DTSTART:20201101T090000
END:STANDARD
BEGIN:DAYLIGHT
TZOFFSETFROM:-0800
TZOFFSETTO:-0700
TZNAME:PDT
DTSTART:20210314T100000
END:DAYLIGHT
BEGIN:STANDARD
TZOFFSETFROM:-0700
TZOFFSETTO:-0800
TZNAME:PST
DTSTART:20211107T090000
END:STANDARD
BEGIN:DAYLIGHT
TZOFFSETFROM:-0800
TZOFFSETTO:-0700
TZNAME:PDT
DTSTART:20220313T100000
END:DAYLIGHT
BEGIN:STANDARD
TZOFFSETFROM:-0700
TZOFFSETTO:-0800
TZNAME:PST
DTSTART:20221106T090000
END:STANDARD
END:VTIMEZONE
BEGIN:VEVENT
DTSTART;TZID=America/Toronto:20210408T190000
DTEND;TZID=America/Toronto:20210408T203000
DTSTAMP:20260425T172616
CREATED:20210316T175522Z
LAST-MODIFIED:20210316T183923Z
UID:2283-1617908400-1617913800@grandmotherscampaign.org
SUMMARY:Travel\, History and Culture - Matera\, Italy (Online)
DESCRIPTION:Please join Brookbanks for African Grannies as Dr. Franco Gallippi\, a professional scholar and lecturer\, takes us on a fabulous tour of Matera\, Italy. \nMatera (Basilicata)\, a city that was viewed as the “shame of Italy” after WW11\, became one of the most spectacular cities in Italy and a Unesco site in the early 1990s. Along with being the European Capital of Culture (2019)\, it is also a city in which one of the best cheeses of Italy is produced: caciocavallo. \nClick here to register on Eventbrite. Tickets are free\, donations to the SLF are welcome and can be made through Brookbanks for African Grannies’ online fundraising page.
URL:https://grandmotherscampaign.org/event/travel-history-and-culture-matera-italy/
LOCATION:Online
CATEGORIES:Online
END:VEVENT
BEGIN:VEVENT
DTSTART;TZID=America/Edmonton:20210415T080000
DTEND;TZID=America/Edmonton:20210415T170000
DTSTAMP:20260425T172616
CREATED:20210419T162123Z
LAST-MODIFIED:20210419T162123Z
UID:2412-1618473600-1618506000@grandmotherscampaign.org
SUMMARY:Virtual Stride to Turn the Tide (Multi-Day)
DESCRIPTION:Members of Rayanna’s Hope for Africa plan to do a variety of activities to accumulate enough kilometres to walk from south to north Malawi\, the home of Rayanna. Along the way\, we will learn about the grandmothers in the country\, and the community support groups working with the grandmothers and grandchildren there! We plan to have a weekly newsletter tracking our progress and providing interesting information and pictures of the places we “visit” and the people we “meet”! All are welcome to join! Our Stride will go from April 15 to May 31.
URL:https://grandmotherscampaign.org/event/virtual-stride-to-turn-the-tide-multi-day-3/
CATEGORIES:Multi-day,Online
ATTACH;FMTTYPE=image/jpeg:https://grandmotherscampaign.org/wp-content/uploads/2021/04/B8889502-1ECA-4710-8199-F90A96C80E85.jpeg
ORGANIZER;CN="Rayanna's Hope for Africa":MAILTO:rayannashope@gmail.com
END:VEVENT
BEGIN:VEVENT
DTSTART;TZID=America/Toronto:20210415T193000
DTEND;TZID=America/Toronto:20210415T210000
DTSTAMP:20260425T172616
CREATED:20210217T214423Z
LAST-MODIFIED:20210310T173025Z
UID:2136-1618515000-1618520400@grandmotherscampaign.org
SUMMARY:Together in Concert Ensemble: In Solidarity with African Grandmothers (Online)
DESCRIPTION:A 90-minute concert of music\, dance\, storytelling and drumming from acclaimed artists across Canada. Hosted by Canadian grandmothers celebrating the 15th anniversary of the Grandmothers to Grandmothers Campaign of the Stephen Lewis Foundation.
URL:https://grandmotherscampaign.org/event/together-in-concert/
CATEGORIES:Campaign-wide,Online
END:VEVENT
BEGIN:VEVENT
DTSTART;TZID=America/Regina:20210420T000000
DTEND;TZID=America/Regina:20210420T235900
DTSTAMP:20260425T172616
CREATED:20210421T133834Z
LAST-MODIFIED:20210421T133834Z
UID:2419-1618876800-1618963140@grandmotherscampaign.org
SUMMARY:Mother's Day Madness:  A Spectacular Silent Auction (Multi-day\, Online)
DESCRIPTION:Grandmothers 4 Grandmothers Regina is pleased to present its first on-line silent auction. All proceeds from the auction go to the Grandmothers Campaign of the Stephen Lewis Foundation to support grandmothers in sub-Saharan Africa raising children orphaned by AIDS. To register and start bidding\, please go to 32auctions.com/mda2021. You’ll see lots of beautiful items for Mother’s Day or for any day. You are bound to find something for that special someone in your life.
URL:https://grandmotherscampaign.org/event/mothers-day-madness-a-spectacular-silent-auction-multi-day-online/
LOCATION:Online
CATEGORIES:Multi-day,Online
ATTACH;FMTTYPE=image/jpeg:https://grandmotherscampaign.org/wp-content/uploads/2021/04/MDSA-Poster-2021.jpg
ORGANIZER;CN="Grandmothers 4 Grandmothers Regina":MAILTO:g4gregina@gmail.com
END:VEVENT
BEGIN:VEVENT
DTSTART;TZID=America/Vancouver:20210420T140000
DTEND;TZID=America/Vancouver:20210420T150000
DTSTAMP:20260425T172616
CREATED:20210211T134728Z
LAST-MODIFIED:20210211T134728Z
UID:2061-1618927200-1618930800@grandmotherscampaign.org
SUMMARY:Zoom Book Club with Bianca Marais (Online)
DESCRIPTION:Join Grandmothers to Grandmothers Prince George (G2G PG) on April 20th\, from 2-3:00 PST\, as they host a Zoom book club meeting. Our special guest is author Bianca Marais\, author of “Hum if You Don’t Know the Words” and “If You Want to Make God Laugh”. Her powerful and moving novels are set in South Africa\, where Bianca grew up.\nIf you want to join us\, email Ruth Meger at ruth.meger@gmail.com and she will send you a Zoom invitation.
URL:https://grandmotherscampaign.org/event/zoom-book-club-with-bianca-marais-online/
LOCATION:Zoom
CATEGORIES:Online
ORGANIZER;CN="G2G PG":MAILTO:ruth.meger@gmail.com
END:VEVENT
BEGIN:VEVENT
DTSTART;TZID=America/Toronto:20210429T140000
DTEND;TZID=America/Toronto:20210429T153000
DTSTAMP:20260425T172616
CREATED:20210201T170516Z
LAST-MODIFIED:20210412T185921Z
UID:1983-1619704800-1619710200@grandmotherscampaign.org
SUMMARY:Explore Africa - Book (Online)
DESCRIPTION:In a casual and spontaneous conversation\, Ruby Newman will discuss Baking Cakes in Kigali with author Gaile Parkin. Audience participation will be encouraged. \nBaking Cakes in Kigali (storyline)\nAngel Tungaraza has recently moved to Rwanda from her native Tanzania with her husband Pius and their five orphaned grandchildren. She pursues her passion: her small but increasingly successful business\, baking individually designed cakes for her neighbours and friends from the community.\nHauntingly charming\, funny\, and involving\, Baking Cakes in Kigali is a novel about the real meaning of reconciliation — about how\, in the aftermath of tragedy\, life goes on and people still manage to find reasons to celebrate. \nThe book’s theme resonates with the work Grandmothers Partnering with Africa does to support African grandmothers affected HIV and AIDS.
URL:https://grandmotherscampaign.org/event/explore-africa-book-online/
LOCATION:Zoom
CATEGORIES:Online
END:VEVENT
END:VCALENDAR