BEGIN:VCALENDAR
VERSION:2.0
PRODID:-//Grandmothers to Grandmothers Campaign - ECPv6.15.20//NONSGML v1.0//EN
CALSCALE:GREGORIAN
METHOD:PUBLISH
X-ORIGINAL-URL:https://grandmotherscampaign.org
X-WR-CALDESC:Events for Grandmothers to Grandmothers Campaign
REFRESH-INTERVAL;VALUE=DURATION:PT1H
X-Robots-Tag:noindex
X-PUBLISHED-TTL:PT1H
BEGIN:VTIMEZONE
TZID:America/Vancouver
BEGIN:DAYLIGHT
TZOFFSETFROM:-0800
TZOFFSETTO:-0700
TZNAME:PDT
DTSTART:20210314T100000
END:DAYLIGHT
BEGIN:STANDARD
TZOFFSETFROM:-0700
TZOFFSETTO:-0800
TZNAME:PST
DTSTART:20211107T090000
END:STANDARD
BEGIN:DAYLIGHT
TZOFFSETFROM:-0800
TZOFFSETTO:-0700
TZNAME:PDT
DTSTART:20220313T100000
END:DAYLIGHT
BEGIN:STANDARD
TZOFFSETFROM:-0700
TZOFFSETTO:-0800
TZNAME:PST
DTSTART:20221106T090000
END:STANDARD
BEGIN:DAYLIGHT
TZOFFSETFROM:-0800
TZOFFSETTO:-0700
TZNAME:PDT
DTSTART:20230312T100000
END:DAYLIGHT
BEGIN:STANDARD
TZOFFSETFROM:-0700
TZOFFSETTO:-0800
TZNAME:PST
DTSTART:20231105T090000
END:STANDARD
END:VTIMEZONE
BEGIN:VTIMEZONE
TZID:America/Toronto
BEGIN:DAYLIGHT
TZOFFSETFROM:-0500
TZOFFSETTO:-0400
TZNAME:EDT
DTSTART:20210314T070000
END:DAYLIGHT
BEGIN:STANDARD
TZOFFSETFROM:-0400
TZOFFSETTO:-0500
TZNAME:EST
DTSTART:20211107T060000
END:STANDARD
BEGIN:DAYLIGHT
TZOFFSETFROM:-0500
TZOFFSETTO:-0400
TZNAME:EDT
DTSTART:20220313T070000
END:DAYLIGHT
BEGIN:STANDARD
TZOFFSETFROM:-0400
TZOFFSETTO:-0500
TZNAME:EST
DTSTART:20221106T060000
END:STANDARD
BEGIN:DAYLIGHT
TZOFFSETFROM:-0500
TZOFFSETTO:-0400
TZNAME:EDT
DTSTART:20230312T070000
END:DAYLIGHT
BEGIN:STANDARD
TZOFFSETFROM:-0400
TZOFFSETTO:-0500
TZNAME:EST
DTSTART:20231105T060000
END:STANDARD
END:VTIMEZONE
BEGIN:VEVENT
DTSTART;TZID=America/Vancouver:20220115T090000
DTEND;TZID=America/Vancouver:20220115T103000
DTSTAMP:20260423T092346
CREATED:20211216T163737Z
LAST-MODIFIED:20211216T163934Z
UID:3224-1642237200-1642242600@grandmotherscampaign.org
SUMMARY:The Road to Your Best Age in 2022 (Online)
DESCRIPTION:Welisa Gogos will be hosting their second annual Wellness Webinar! The Road to Your Best Age in 2022 with Active Aging Coach\, Patti Bishop. \nJoin Patti\, BSc\, RHN for a 90-minute wellness workshop focused on women over 50. Join us and learn more about Patti’s three pillar approach to aging\, fitness and wellness: MOVE STRONG ~ FUEL STRONG ~ THINK STRONG \nThere will be a combination of inspiring information and movement. Following the presentation\, participants will be invited to take part in a free three-day wellness challenge. \nEvent tickets for “Age Strong in 2022” are $15.\nYour support can reach even further! Instead of purchasing a $15 ticket\, you can choose to make a donation of $20 or more and you will receive a tax receipt. \nFor more information or to register visit Welisa Gogo’s Facebook page or email us at welisagogos@gmail.com
URL:https://grandmotherscampaign.org/event/the-road-to-your-best-age-in-2022-online/
LOCATION:Zoom
CATEGORIES:Online
ORGANIZER;CN="Welisa Gogos":MAILTO:welisagogos@gmail.com
END:VEVENT
BEGIN:VEVENT
DTSTART;TZID=America/Toronto:20220118T090000
DTEND;TZID=America/Toronto:20220118T170000
DTSTAMP:20260423T092346
CREATED:20220118T164156Z
LAST-MODIFIED:20220118T164438Z
UID:3288-1642496400-1642525200@grandmotherscampaign.org
SUMMARY:Gugu Gogos Stain Glass Online Sales (In-Person pick-up)
DESCRIPTION:The Gugu Gogos are selling a limited number of stain glass African violets and feathers. The African Violets are selling for $20.00 and the feathers are $22.00. Note that purchases must be picked up in either North Toronto\, Scarborough or Whitby.
URL:https://grandmotherscampaign.org/event/gugu-gogos-stain-glass-sales/
LOCATION:Online
CATEGORIES:In-person,Online
END:VEVENT
BEGIN:VEVENT
DTSTART;TZID=America/Toronto:20220120T123000
DTEND;TZID=America/Toronto:20220120T133000
DTSTAMP:20260423T092346
CREATED:20220110T161242Z
LAST-MODIFIED:20220110T161335Z
UID:3275-1642681800-1642685400@grandmotherscampaign.org
SUMMARY:January Grandmothers Campaign-Wide Call (Online\, all are welcome)
DESCRIPTION:Join the SLF Grandmothers Campaign team and members of grandmothers groups from across the Campaign for a Zoom call to share ideas and events\, support one another and learn more about activities happening within the grandmothers movement. \nRSVP to campaign@stephenlewisfoundation.org for the Zoom link or use the sign-up form in the members only section of the website.
URL:https://grandmotherscampaign.org/event/january-campaign-call-online-all-are-welcome/
LOCATION:Zoom
CATEGORIES:Campaign-wide,Online
END:VEVENT
BEGIN:VEVENT
DTSTART;TZID=America/Vancouver:20220127T100000
DTEND;TZID=America/Vancouver:20220127T113000
DTSTAMP:20260423T092346
CREATED:20211214T140506Z
LAST-MODIFIED:20211216T164128Z
UID:3215-1643277600-1643283000@grandmotherscampaign.org
SUMMARY:Contemporary African Voices
DESCRIPTION:We are delighted to present the award winning South African writer Rešoketšwe Manenzhe\, author of the book Scatterlings\, in conversation with Garvia Bailey. Q&A to follow. \nTo Register: https://www.eventbrite.ca/e/contemporary-african-voices-tickets-223033367807 \nTo Donate: https://slf.akaraisin.com/fundraise1/contemporaryvoices
URL:https://grandmotherscampaign.org/event/contemporary-african-voices/
LOCATION:Zoom
CATEGORIES:Online
END:VEVENT
END:VCALENDAR