BEGIN:VCALENDAR
VERSION:2.0
PRODID:-//Grandmothers to Grandmothers Campaign - ECPv6.15.20//NONSGML v1.0//EN
CALSCALE:GREGORIAN
METHOD:PUBLISH
X-ORIGINAL-URL:https://grandmotherscampaign.org
X-WR-CALDESC:Events for Grandmothers to Grandmothers Campaign
REFRESH-INTERVAL;VALUE=DURATION:PT1H
X-Robots-Tag:noindex
X-PUBLISHED-TTL:PT1H
BEGIN:VTIMEZONE
TZID:America/Toronto
BEGIN:DAYLIGHT
TZOFFSETFROM:-0500
TZOFFSETTO:-0400
TZNAME:EDT
DTSTART:20210314T070000
END:DAYLIGHT
BEGIN:STANDARD
TZOFFSETFROM:-0400
TZOFFSETTO:-0500
TZNAME:EST
DTSTART:20211107T060000
END:STANDARD
BEGIN:DAYLIGHT
TZOFFSETFROM:-0500
TZOFFSETTO:-0400
TZNAME:EDT
DTSTART:20220313T070000
END:DAYLIGHT
BEGIN:STANDARD
TZOFFSETFROM:-0400
TZOFFSETTO:-0500
TZNAME:EST
DTSTART:20221106T060000
END:STANDARD
BEGIN:DAYLIGHT
TZOFFSETFROM:-0500
TZOFFSETTO:-0400
TZNAME:EDT
DTSTART:20230312T070000
END:DAYLIGHT
BEGIN:STANDARD
TZOFFSETFROM:-0400
TZOFFSETTO:-0500
TZNAME:EST
DTSTART:20231105T060000
END:STANDARD
END:VTIMEZONE
BEGIN:VEVENT
DTSTART;TZID=America/Toronto:20220402T140000
DTEND;TZID=America/Toronto:20220402T170000
DTSTAMP:20260421T141833
CREATED:20220307T155907Z
LAST-MODIFIED:20220401T145141Z
UID:3494-1648908000-1648918800@grandmotherscampaign.org
SUMMARY:Capital Grannies Canadian Museum for Human Rights Tour
DESCRIPTION:This virtual tour of the museum in Winnipeg is an opportunity to view its exhibits and galleries\, as well as its stunning architecture\, with an experienced tour guide. The gallery exhibits range from Indigenous perspectives and the right to safety and justice for Aboriginal women in Canada\, to human rights in a global setting\, with a gallery examining the Holocaust. The tour also presents powerful human rights stories\, including those of Nelson Mandela and of the Stephen Lewis Foundation (SLF) Grandmothers Campaign and the Hillcrest AIDS Centre. Join us to learn about human rights\, activism\, and how to inspire change.
URL:https://grandmotherscampaign.org/event/capital-grannies-canadian-museum-for-human-rights-tour/
CATEGORIES:Campaign-wide,Online
ATTACH;FMTTYPE=image/jpeg:https://grandmotherscampaign.org/wp-content/uploads/2022/03/HRM.jpg
ORGANIZER;CN="Capital Grannies":MAILTO:capitalgrannies@bell.net
END:VEVENT
BEGIN:VEVENT
DTSTART;VALUE=DATE:20220403
DTEND;VALUE=DATE:20220404
DTSTAMP:20260421T141833
CREATED:20220307T154247Z
LAST-MODIFIED:20220307T154602Z
UID:3488-1648944000-1649030399@grandmotherscampaign.org
SUMMARY:Kingston Grandmother Connection’s unique African-oriented online store opens again April 3-29\, 2022.
DESCRIPTION:Fine handcrafted items for Mother’s Day\, Easter\, Birthdays: large woven African baskets\, African cloth placemats\, distinctive light-weight nuno-felted scarves\, soap and shampoo bars\, note cards and more. \nPick up in central Kingston every Saturday\, or get delivery. \nAll proceeds go to Help Lesotho and the Stephen Lewis Foundation’s Grandmothers to Grandmothers campaign\, helping African grandmothers and their families.
URL:https://grandmotherscampaign.org/event/kingston-grandmother-connections-unique-african-oriented-online-store-opens-again-april-3-29-2022/
CATEGORIES:Multi-day,Online
ORGANIZER;CN="Kingston Grandmother Connection":MAILTO:kingstongrandmotherconnection@gmail.com
END:VEVENT
BEGIN:VEVENT
DTSTART;TZID=America/Toronto:20220421T123000
DTEND;TZID=America/Toronto:20220421T133000
DTSTAMP:20260421T141833
CREATED:20220110T161854Z
LAST-MODIFIED:20220110T161854Z
UID:3282-1650544200-1650547800@grandmotherscampaign.org
SUMMARY:April Grandmothers Campaign-Wide Call (Online)
DESCRIPTION:Join the SLF Grandmothers Campaign team and members of grandmothers groups from across the Campaign for a Zoom call to share ideas and events\, support one another and learn more about activities happening within the grandmothers movement. \nRSVP to campaign@stephenlewisfoundation.org for the Zoom link or use the sign-up form in the members only section of the website.
URL:https://grandmotherscampaign.org/event/april-grandmothers-campaign-wide-call-online/
LOCATION:Zoom
CATEGORIES:Campaign-wide,Online
END:VEVENT
BEGIN:VEVENT
DTSTART;TZID=America/Toronto:20220427T130000
DTEND;TZID=America/Toronto:20220427T143000
DTSTAMP:20260421T141833
CREATED:20220322T190821Z
LAST-MODIFIED:20220323T133900Z
UID:3517-1651064400-1651069800@grandmotherscampaign.org
SUMMARY:No Be From Hia: A Homecoming Tale of a Family
DESCRIPTION:Join host Bianca Marais as she engages in conversation with Zambian writer Natasha Omokhodion-Kalulu Banda about her debut novel\, No Be From Hia. Meet the Ayomides and the Kombes – Zambian-Nigerian-Jamaican powerhouse families brought together by migration and torn apart by tragedy and secrets. In a search for identity\, love and acceptance – two ordinary girls travel from London to Lusaka to Lagos in order to save their family and discover their destiny. This event is the third in the Contemporary African Voices webinar series. \nClick here to register. \nClick here to donate.
URL:https://grandmotherscampaign.org/event/no-be-from-hia-a-homecoming-tale-of-a-family/
LOCATION:Online
CATEGORIES:Online
ATTACH;FMTTYPE=application/pdf:https://grandmotherscampaign.org/wp-content/uploads/2022/03/Updated-NBFH-Poster-March-22_calendar-version.pdf
ORGANIZER;CN="Rising Action Publishing Collective":MAILTO:maureensurprise@icloud.com
END:VEVENT
BEGIN:VEVENT
DTSTART;VALUE=DATE:20220429
DTEND;VALUE=DATE:20220430
DTSTAMP:20260421T141833
CREATED:20220307T155058Z
LAST-MODIFIED:20220307T155058Z
UID:3492-1651190400-1651276799@grandmotherscampaign.org
SUMMARY:Kingston Grandmother Connection’s unique African-oriented online store opens again April 3-29\, 2022.
DESCRIPTION:Fine handcrafted items for Mother’s Day\, Easter\, Birthdays: large woven African baskets\, African cloth placemats\, distinctive light-weight nuno-felted scarves\, soap and shampoo bars\, note cards and more. \nPick up in central Kingston every Saturday\, or get delivery. \nAll proceeds go to Help Lesotho and the Stephen Lewis Foundation’s Grandmothers to Grandmothers campaign\, helping African grandmothers and their families.
URL:https://grandmotherscampaign.org/event/kingston-grandmother-connections-unique-african-oriented-online-store-opens-again-april-3-29-2022-2/
CATEGORIES:Multi-day,Online
END:VEVENT
END:VCALENDAR