BEGIN:VCALENDAR
VERSION:2.0
PRODID:-//Grandmothers to Grandmothers Campaign - ECPv6.15.20//NONSGML v1.0//EN
CALSCALE:GREGORIAN
METHOD:PUBLISH
X-ORIGINAL-URL:https://grandmotherscampaign.org
X-WR-CALDESC:Events for Grandmothers to Grandmothers Campaign
REFRESH-INTERVAL;VALUE=DURATION:PT1H
X-Robots-Tag:noindex
X-PUBLISHED-TTL:PT1H
BEGIN:VTIMEZONE
TZID:America/Toronto
BEGIN:DAYLIGHT
TZOFFSETFROM:-0500
TZOFFSETTO:-0400
TZNAME:EDT
DTSTART:20210314T070000
END:DAYLIGHT
BEGIN:STANDARD
TZOFFSETFROM:-0400
TZOFFSETTO:-0500
TZNAME:EST
DTSTART:20211107T060000
END:STANDARD
BEGIN:DAYLIGHT
TZOFFSETFROM:-0500
TZOFFSETTO:-0400
TZNAME:EDT
DTSTART:20220313T070000
END:DAYLIGHT
BEGIN:STANDARD
TZOFFSETFROM:-0400
TZOFFSETTO:-0500
TZNAME:EST
DTSTART:20221106T060000
END:STANDARD
BEGIN:DAYLIGHT
TZOFFSETFROM:-0500
TZOFFSETTO:-0400
TZNAME:EDT
DTSTART:20230312T070000
END:DAYLIGHT
BEGIN:STANDARD
TZOFFSETFROM:-0400
TZOFFSETTO:-0500
TZNAME:EST
DTSTART:20231105T060000
END:STANDARD
END:VTIMEZONE
BEGIN:VTIMEZONE
TZID:America/Vancouver
BEGIN:DAYLIGHT
TZOFFSETFROM:-0800
TZOFFSETTO:-0700
TZNAME:PDT
DTSTART:20210314T100000
END:DAYLIGHT
BEGIN:STANDARD
TZOFFSETFROM:-0700
TZOFFSETTO:-0800
TZNAME:PST
DTSTART:20211107T090000
END:STANDARD
BEGIN:DAYLIGHT
TZOFFSETFROM:-0800
TZOFFSETTO:-0700
TZNAME:PDT
DTSTART:20220313T100000
END:DAYLIGHT
BEGIN:STANDARD
TZOFFSETFROM:-0700
TZOFFSETTO:-0800
TZNAME:PST
DTSTART:20221106T090000
END:STANDARD
BEGIN:DAYLIGHT
TZOFFSETFROM:-0800
TZOFFSETTO:-0700
TZNAME:PDT
DTSTART:20230312T100000
END:DAYLIGHT
BEGIN:STANDARD
TZOFFSETFROM:-0700
TZOFFSETTO:-0800
TZNAME:PST
DTSTART:20231105T090000
END:STANDARD
END:VTIMEZONE
BEGIN:VEVENT
DTSTART;TZID=America/Toronto:20220601T080000
DTEND;TZID=America/Toronto:20220601T170000
DTSTAMP:20260421T114430
CREATED:20220420T170139Z
LAST-MODIFIED:20220420T170139Z
UID:3634-1654070400-1654102800@grandmotherscampaign.org
SUMMARY:For the Love of Grandmothers Fitness Challenge (May 1 to June 30)
DESCRIPTION:It’s not to late to join the fun! The Greater Van Gogos invite members\, their friends\, family and supporters to join them in a fitness challenge from May 1st to June 30th. We hope to raise $50\,000 in support of the Stephen Lewis Foundation’s Grandmothers Campaign. We’ve done it before and we can do it again! \nClick here for more information and ways to participate.
URL:https://grandmotherscampaign.org/event/for-the-love-of-grandmothers-fitness-challenge-may-1-to-june-30/
CATEGORIES:Multi-day,Online
ATTACH;FMTTYPE=image/jpeg:https://grandmotherscampaign.org/wp-content/uploads/2022/04/Greater-Van-Gogos-fitness-challenge.jpg
END:VEVENT
BEGIN:VEVENT
DTSTART;TZID=America/Vancouver:20220607T080000
DTEND;TZID=America/Vancouver:20220611T170000
DTSTAMP:20260421T114430
CREATED:20220513T192336Z
LAST-MODIFIED:20220513T192336Z
UID:3726-1654588800-1654966800@grandmotherscampaign.org
SUMMARY:Salt Spring’s 14th Annual Scrabble Fundraiser
DESCRIPTION:We will be hosting games\, dinner and a silent auction over 3 days in June. On June 7\, 9 games and prizes from 2 to 4 pm at Portlock Park Pavillion\, and games\, a chili dinner\, silent auction and cash and carry tables from 5:30 – 9 pm at the Lions’ Bradley Hall. Silent auction items will be listed on https://saltspringexchange.com/ We also invite donations through an online appeal on the Grandmothers site here.
URL:https://grandmotherscampaign.org/event/salt-springs-14th-annual-scrabble-fundraiser/
CATEGORIES:Multi-day,Online
ATTACH;FMTTYPE=image/jpeg:https://grandmotherscampaign.org/wp-content/uploads/2022/05/202220Scrabble20Poster-page-001-scaled-e1652469806181.jpg
END:VEVENT
BEGIN:VEVENT
DTSTART;TZID=America/Toronto:20220610T110000
DTEND;TZID=America/Toronto:20220610T121500
DTSTAMP:20260421T114430
CREATED:20220602T165114Z
LAST-MODIFIED:20220602T165442Z
UID:3799-1654858800-1654863300@grandmotherscampaign.org
SUMMARY:Visiting Zimbabwe: A Conversation with Idah Mukuka Nambeya & SLF Partners (Online)
DESCRIPTION:For decades\, community-led responses have been supporting and empowering people living with or affected by HIV and AIDS. These remarkably effective programs have only deepened over time\, as their connection to their communities ensure they are cutting the AIDS pandemic off at its roots.  \n\n\n\nIdah Mukuka Nambeya\, Senior Advisor to the Grandmothers to Grandmothers Campaign\, has visited and worked with community-based partners since the Stephen Lewis Foundation was founded. Recently\, she travelled to Zimbabwe on her first international trip since 2019 to meet with The Musasa Project\, Midlands AIDS Service Organization (MASO)\, and Chiedza Child Care Centre. \nWe invite you to a dynamic\, virtual conversation between Idah and leaders from each of these organizations. Learn how they are continuing to support and uplift their communities throughout the challenges of the dual pandemics of HIV and AIDS and COVID-19\, and how they see the future of their work. \nDon’t miss this important conversation on June 10th at 11 AM Eastern Daylight time\, 8 AM Pacific Daylight time\, 5 PM Central African Time.
URL:https://grandmotherscampaign.org/event/visiting-zimbabwe-a-conversation-with-idah-mukuka-nambeya-slf-partners-online/
LOCATION:Zoom
CATEGORIES:Campaign-wide,Online
ATTACH;FMTTYPE=image/jpeg:https://grandmotherscampaign.org/wp-content/uploads/2022/06/Visiting-Zimbabwe_FBsocialmedia.jpg
END:VEVENT
BEGIN:VEVENT
DTSTART;TZID=America/Toronto:20220616T123000
DTEND;TZID=America/Toronto:20220616T133000
DTSTAMP:20260421T114430
CREATED:20220110T162247Z
LAST-MODIFIED:20220110T162247Z
UID:3286-1655382600-1655386200@grandmotherscampaign.org
SUMMARY:June Grandmothers Campaign-Wide Call (Online)
DESCRIPTION:Join the SLF Grandmothers Campaign team and members of grandmothers groups from across the Campaign for a Zoom call to share ideas and events\, support one another and learn more about activities happening within the grandmothers movement. \nRSVP to campaign@stephenlewisfoundation.org for the Zoom link or use the sign-up form in the members only section of the website.
URL:https://grandmotherscampaign.org/event/june-grandmothers-campaign-wide-call-online/
LOCATION:Zoom
CATEGORIES:Campaign-wide,Online
END:VEVENT
BEGIN:VEVENT
DTSTART;TZID=America/Toronto:20220623T130000
DTEND;TZID=America/Toronto:20220623T140000
DTSTAMP:20260421T114430
CREATED:20220527T185529Z
LAST-MODIFIED:20220527T190900Z
UID:3790-1655989200-1655992800@grandmotherscampaign.org
SUMMARY:Raising Monarchs (Online)
DESCRIPTION:On June 23\, 2022 at 1:00 PM ET\, Ingrid Janssen will be giving a presentation on Raising Monarch Butterflies. \nIngrid is a horticulturist\, speaker\, blogger and master gardener. She has been gardening for most of her life and is a passionate\, some would say “crazy gardener”. Her presentation\, ‘Raising Monarchs: How I Became a Monarch Mama’\, is a story about an iconic butterfly and the role that gardeners can play in its survival. \nDonate at https://slf.akaraisin.com/ui/grandmotherscampaign2022/p/RaisingMonarchs.
URL:https://grandmotherscampaign.org/event/raising-monarchs/
CATEGORIES:Online
ATTACH;FMTTYPE=image/jpeg:https://grandmotherscampaign.org/wp-content/uploads/2022/05/Raising-Monarchs-scaled-e1653677515562.jpg
END:VEVENT
END:VCALENDAR