BEGIN:VCALENDAR
VERSION:2.0
PRODID:-//Grandmothers to Grandmothers Campaign - ECPv6.15.20//NONSGML v1.0//EN
CALSCALE:GREGORIAN
METHOD:PUBLISH
X-WR-CALNAME:Grandmothers to Grandmothers Campaign
X-ORIGINAL-URL:https://grandmotherscampaign.org
X-WR-CALDESC:Events for Grandmothers to Grandmothers Campaign
REFRESH-INTERVAL;VALUE=DURATION:PT1H
X-Robots-Tag:noindex
X-PUBLISHED-TTL:PT1H
BEGIN:VTIMEZONE
TZID:America/Toronto
BEGIN:DAYLIGHT
TZOFFSETFROM:-0500
TZOFFSETTO:-0400
TZNAME:EDT
DTSTART:20220313T070000
END:DAYLIGHT
BEGIN:STANDARD
TZOFFSETFROM:-0400
TZOFFSETTO:-0500
TZNAME:EST
DTSTART:20221106T060000
END:STANDARD
BEGIN:DAYLIGHT
TZOFFSETFROM:-0500
TZOFFSETTO:-0400
TZNAME:EDT
DTSTART:20230312T070000
END:DAYLIGHT
BEGIN:STANDARD
TZOFFSETFROM:-0400
TZOFFSETTO:-0500
TZNAME:EST
DTSTART:20231105T060000
END:STANDARD
BEGIN:DAYLIGHT
TZOFFSETFROM:-0500
TZOFFSETTO:-0400
TZNAME:EDT
DTSTART:20240310T070000
END:DAYLIGHT
BEGIN:STANDARD
TZOFFSETFROM:-0400
TZOFFSETTO:-0500
TZNAME:EST
DTSTART:20241103T060000
END:STANDARD
END:VTIMEZONE
BEGIN:VEVENT
DTSTART;TZID=America/Toronto:20230117T123000
DTEND;TZID=America/Toronto:20230117T140000
DTSTAMP:20260419T145044
CREATED:20230109T153706Z
LAST-MODIFIED:20230109T153953Z
UID:4506-1673958600-1673964000@grandmotherscampaign.org
SUMMARY:Grandmothers Campaign Advocacy Webinar (Online)
DESCRIPTION:Join us this month for a special webinar on the topic of advocacy and the Grandmothers Campaign\, hosted by the Stephen Lewis Foundation and GRAN.\n\n\n\nEmail rsvp@stephenlewisfoundation.org to receive the link to the webinar\, happening January 17th from 12:30 – 2pm ET.
URL:https://grandmotherscampaign.org/event/grandmothers-campaign-advocacy-webinar-online/
CATEGORIES:Campaign-wide,Online
ATTACH;FMTTYPE=image/jpeg:https://grandmotherscampaign.org/wp-content/uploads/2023/01/Advocacy-Webinar-Facebook-Post-Image.jpg
END:VEVENT
BEGIN:VEVENT
DTSTART;TZID=America/Toronto:20230126T133000
DTEND;TZID=America/Toronto:20230126T150000
DTSTAMP:20260419T145044
CREATED:20230106T153913Z
LAST-MODIFIED:20230106T154436Z
UID:4486-1674739800-1674745200@grandmotherscampaign.org
SUMMARY:Explore Southern Africa - History/Politics
DESCRIPTION:From Hope to Despair: The journey from the magic of Nelson Mandela to the corruption of constitutional democracy 25 years later. Mandela’s vision during the apartheid era was for the eradication of racism and for the establishment of a constitutional democracy. He pictured a South Africa in which all its citizens had equal rights and where every adult would have the right to vote for the government of his or her choice. \nJudge Dennis Davis will discuss how this vision has been achieved and the rocky road forward for the new democracy in South Africa as well as democracies in other African states and around the world. \nJudge Davis is a Judge of the High Court of South Africa and Judge President of the Competition Appeal Court of South Africa. He has held professorial appointments at both the University of Cape Town and University of the Witwatersrand and has lectured at Harvard\, NYU\, Georgetown and Melbourne Law Schools as a visiting professor. He is the author of 11 books – his latest is LAWFARE 2019. He was a member of the team drafting the new South African constitution and is the host of a South African TV show ‘Judge for yourself with Dennis Davis’ focusing on human rights issues. \n 
URL:https://grandmotherscampaign.org/event/explore-southern-africa-history-politics/
LOCATION:Zoom
CATEGORIES:Online
ATTACH;FMTTYPE=image/jpeg:https://grandmotherscampaign.org/wp-content/uploads/2023/01/Explore-Southern-Africa-Final-for-JPG-1-scaled-e1673019602797.jpg
END:VEVENT
END:VCALENDAR