BEGIN:VCALENDAR
VERSION:2.0
PRODID:-//Grandmothers to Grandmothers Campaign - ECPv6.15.20//NONSGML v1.0//EN
CALSCALE:GREGORIAN
METHOD:PUBLISH
X-WR-CALNAME:Grandmothers to Grandmothers Campaign
X-ORIGINAL-URL:https://grandmotherscampaign.org
X-WR-CALDESC:Events for Grandmothers to Grandmothers Campaign
REFRESH-INTERVAL;VALUE=DURATION:PT1H
X-Robots-Tag:noindex
X-PUBLISHED-TTL:PT1H
BEGIN:VTIMEZONE
TZID:America/Toronto
BEGIN:DAYLIGHT
TZOFFSETFROM:-0500
TZOFFSETTO:-0400
TZNAME:EDT
DTSTART:20220313T070000
END:DAYLIGHT
BEGIN:STANDARD
TZOFFSETFROM:-0400
TZOFFSETTO:-0500
TZNAME:EST
DTSTART:20221106T060000
END:STANDARD
BEGIN:DAYLIGHT
TZOFFSETFROM:-0500
TZOFFSETTO:-0400
TZNAME:EDT
DTSTART:20230312T070000
END:DAYLIGHT
BEGIN:STANDARD
TZOFFSETFROM:-0400
TZOFFSETTO:-0500
TZNAME:EST
DTSTART:20231105T060000
END:STANDARD
BEGIN:DAYLIGHT
TZOFFSETFROM:-0500
TZOFFSETTO:-0400
TZNAME:EDT
DTSTART:20240310T070000
END:DAYLIGHT
BEGIN:STANDARD
TZOFFSETFROM:-0400
TZOFFSETTO:-0500
TZNAME:EST
DTSTART:20241103T060000
END:STANDARD
END:VTIMEZONE
BEGIN:VTIMEZONE
TZID:America/Vancouver
BEGIN:DAYLIGHT
TZOFFSETFROM:-0800
TZOFFSETTO:-0700
TZNAME:PDT
DTSTART:20220313T100000
END:DAYLIGHT
BEGIN:STANDARD
TZOFFSETFROM:-0700
TZOFFSETTO:-0800
TZNAME:PST
DTSTART:20221106T090000
END:STANDARD
BEGIN:DAYLIGHT
TZOFFSETFROM:-0800
TZOFFSETTO:-0700
TZNAME:PDT
DTSTART:20230312T100000
END:DAYLIGHT
BEGIN:STANDARD
TZOFFSETFROM:-0700
TZOFFSETTO:-0800
TZNAME:PST
DTSTART:20231105T090000
END:STANDARD
BEGIN:DAYLIGHT
TZOFFSETFROM:-0800
TZOFFSETTO:-0700
TZNAME:PDT
DTSTART:20240310T100000
END:DAYLIGHT
BEGIN:STANDARD
TZOFFSETFROM:-0700
TZOFFSETTO:-0800
TZNAME:PST
DTSTART:20241103T090000
END:STANDARD
END:VTIMEZONE
BEGIN:VEVENT
DTSTART;TZID=America/Toronto:20230204T150000
DTEND;TZID=America/Toronto:20230204T170000
DTSTAMP:20260419T130635
CREATED:20230106T195134Z
LAST-MODIFIED:20230106T195134Z
UID:4498-1675522800-1675530000@grandmotherscampaign.org
SUMMARY:Yoga in Support of African Grandmothers (In Person\, Online)
DESCRIPTION:We invite you to join us for a 1-hour yoga class where you can stretch\,\nenergize\, and relax during a nurturing gentle practice that fosters deep\nwell-being. All levels are welcome.  No experience is necessary.\nThe class will be taught by Joanne Gormley\, a long time teacher in the\ncommunity\, and a member of Grannies for Good\, a chapter of the\nGrandmothers to Grandmothers Campaign of the Stephen Lewis\nFoundation.\nBy donation. Suggested amount $20-$30 ATTEND IN PERSON or VIA ZOOM \nTo donate and for more information go to https://slf.akaraisin.com/ui/grandmotherscampaign2023/p/eea29da842514aedae2946c41bcf04b0 
URL:https://grandmotherscampaign.org/event/yoga-in-support-of-african-grandmothers-in-person-online/
CATEGORIES:In-person,Online
END:VEVENT
BEGIN:VEVENT
DTSTART;TZID=America/Toronto:20230216T123000
DTEND;TZID=America/Toronto:20230216T133000
DTSTAMP:20260419T130635
CREATED:20230130T221722Z
LAST-MODIFIED:20230130T221722Z
UID:4553-1676550600-1676554200@grandmotherscampaign.org
SUMMARY:February Campaign Call
DESCRIPTION:All members of the Grandmothers to Grandmothers Campaign are welcome to join us for our monthly Zoom call! This month we’ll have a fundraising sharing circle\, and invite groups to come and share a fundraising event or idea that has been fun and successful for their group. We’ve had requests for events that can be organized easily by smaller groups. \nEmail campaign@stephenlewisfoundation.org to RSVP and receive the Zoom link.
URL:https://grandmotherscampaign.org/event/february-campaign-call-2/
LOCATION:Zoom
CATEGORIES:Campaign-wide,Online
END:VEVENT
BEGIN:VEVENT
DTSTART;TZID=America/Toronto:20230216T190000
DTEND;TZID=America/Toronto:20230216T203000
DTSTAMP:20260419T130635
CREATED:20230106T154644Z
LAST-MODIFIED:20230106T154851Z
UID:4487-1676574000-1676579400@grandmotherscampaign.org
SUMMARY:Explore Southern Africa - Food
DESCRIPTION:Flavours inspired by Southern African cuisine \nBaking demonstration by Evis Chirowamhangu and Carole Ferrari
URL:https://grandmotherscampaign.org/event/explore-southern-africa-food/
LOCATION:Zoom
CATEGORIES:Online
ATTACH;FMTTYPE=image/jpeg:https://grandmotherscampaign.org/wp-content/uploads/2023/01/Explore-Southern-Africa-Final-for-JPG-1-1-scaled-e1673019995969.jpg
END:VEVENT
BEGIN:VEVENT
DTSTART;TZID=America/Vancouver:20230225T150000
DTEND;TZID=America/Vancouver:20230225T163000
DTSTAMP:20260419T130635
CREATED:20230208T151359Z
LAST-MODIFIED:20230208T151359Z
UID:4572-1677337200-1677342600@grandmotherscampaign.org
SUMMARY:Trivia with VanGogos
DESCRIPTION:Ready for some February Fun which will stimulate your brain and perhaps give you some laughter? Please sign up to play Trivia with the VanGogos! Form your own team or have us assign you to a team! \nSaturday\, February 25 on Zoom from 3:00 pm PST to 4:30 pm PST/6:00 pm EST to 7:30 pm EST \nProceeds to the SLF Grandmothers to Grandmothers Campaign\nThe event will run approximately 1.5 hours. No prizes\, just Bragging Rights.\nLast day to sign up: Feb. 22 \nEvent Format\n• 3 rounds of 12 questions. Each round formatted as 4 questions\, a break out with your team to discuss answers\, and then return to the main Zoom room for the answers and the next 4 questions\, etc.\n• 4 or 5 people per team (form your own or we can assign you to a team)\n• Questions will be given verbally and also entered into Chat. NOTE: To view the questions once you are in the breakout room\, click the Chat button again. (This feature is not available on all devices.)\n• Participants should have pen and paper handy.\n• Winners will get a Certificate of Trivia Glory emailed to them. \nHow to Join\nContact Arline at aoishi@telus.net with the following information:\n• Your name and email address (if replying for a team\, name and email for each person playing with you). Participants will be emailed a Zoom link just prior to Feb. 25\n• If you are playing with a specific team or want us to assign you to a team\n• If more than one person is playing from one computer\, the names of both people.\n• Your team name\, if applicable. \nContact info: Arline at aoishi@telus.net \nHow to Pay\n*Let Karen know the following information when you pay:\n• That the payment is for Trivia\n• If paying for more than yourself\, who the other players are\n• If making an additional donation\, the amount of the donation \nWhere to send your Money:\n• etransfer $15 to Karen Coulter at karenocoulter@gmail.com.\n• Mail a cheque to Karen Coulter.\n308-1876 W. 6th\nVancouver\, B.C.\nV6J 1R6
URL:https://grandmotherscampaign.org/event/trivia-with-vangogos/
CATEGORIES:Online
ATTACH;FMTTYPE=image/jpeg:https://grandmotherscampaign.org/wp-content/uploads/2023/02/TRIVIA-.jpeg
ORGANIZER;CN="VanGogos":MAILTO:vangogos1@gmail.com
END:VEVENT
END:VCALENDAR