BEGIN:VCALENDAR
VERSION:2.0
PRODID:-//Grandmothers to Grandmothers Campaign - ECPv6.15.20//NONSGML v1.0//EN
CALSCALE:GREGORIAN
METHOD:PUBLISH
X-WR-CALNAME:Grandmothers to Grandmothers Campaign
X-ORIGINAL-URL:https://grandmotherscampaign.org
X-WR-CALDESC:Events for Grandmothers to Grandmothers Campaign
REFRESH-INTERVAL;VALUE=DURATION:PT1H
X-Robots-Tag:noindex
X-PUBLISHED-TTL:PT1H
BEGIN:VTIMEZONE
TZID:America/Vancouver
BEGIN:DAYLIGHT
TZOFFSETFROM:-0800
TZOFFSETTO:-0700
TZNAME:PDT
DTSTART:20200308T100000
END:DAYLIGHT
BEGIN:STANDARD
TZOFFSETFROM:-0700
TZOFFSETTO:-0800
TZNAME:PST
DTSTART:20201101T090000
END:STANDARD
BEGIN:DAYLIGHT
TZOFFSETFROM:-0800
TZOFFSETTO:-0700
TZNAME:PDT
DTSTART:20210314T100000
END:DAYLIGHT
BEGIN:STANDARD
TZOFFSETFROM:-0700
TZOFFSETTO:-0800
TZNAME:PST
DTSTART:20211107T090000
END:STANDARD
BEGIN:DAYLIGHT
TZOFFSETFROM:-0800
TZOFFSETTO:-0700
TZNAME:PDT
DTSTART:20220313T100000
END:DAYLIGHT
BEGIN:STANDARD
TZOFFSETFROM:-0700
TZOFFSETTO:-0800
TZNAME:PST
DTSTART:20221106T090000
END:STANDARD
END:VTIMEZONE
BEGIN:VEVENT
DTSTART;TZID=America/Vancouver:20210124T150000
DTEND;TZID=America/Vancouver:20210124T163000
DTSTAMP:20260426T002958
CREATED:20210108T230638Z
LAST-MODIFIED:20210109T211837Z
UID:1871-1611500400-1611505800@grandmotherscampaign.org
SUMMARY:Libby Davies - How To Make Change (Online)
DESCRIPTION:We are excited to be hosting a special virtual event with Libby Davies\, a Canadian politician and social activist\, live on Sunday\, January 24th\, 2021\, at 3:00 PM PST. After January 24th the recording will be available to view until February 14\, 2021. \nIn 2021\, our Grandmothers Group\, the VanGogos\, want to act in solidarity with our sister African Grandmothers as they deal with two simultaneous pandemics – HIV & AIDS and COVID-19. We know that the expertise\, knowledge and depth of care required to accomplish this lies with the many community-based organizations in sub-Saharan Africa who are partners with the Stephen Lewis Foundation and who provide care\, support and counselling for grandmothers caring for their orphaned grandchildren. \nLibby Davies has worked steadfastly for social justice both inside parliament and out on the streets for more than four decades and her ongoing quest for change continues. In 2016\, she was honoured with a Membership to the Order of Canada. Her recent book\, Outside In: A Political Memoir\, offers an insider’s perspective that never loses touch with the people she fights alongside. Davies looks back on her remarkable life and career with candid humour and heart-rending honesty. She addresses the challenges of her work on homelessness\, sex workers’ rights and ending drug prohibition. You can read more about Libby’s book and purchase it here: https://btlbooks.com/book/outside-in\nor at your favourite independent bookstore. \nLibby will share her insights and experiences as she addresses questions such as – How do we bring about the changes we want? How do we influence the political agenda to make it work for us? Questions are welcome and can be submitted at the time of registration or in the live format on January 24th. \nRegister on Eventbrite here: https://vangogos-present-libbydavies.eventbrite.ca \nDonations to this event are immensely appreciated and your contribution will ensure that these vital programs will be sustainable for our African partners. Donations of $20 and more will receive a tax receipt directly from the Stephen Lewis Foundation and can be made online by clicking here. \nWe look forward to seeing you online at our event! \nWith love and appreciation for your support\,\nVanGogos
URL:https://grandmotherscampaign.org/event/libby-davies-how-to-make-change-online/
LOCATION:Online
CATEGORIES:Online
ATTACH;FMTTYPE=image/jpeg:https://grandmotherscampaign.org/wp-content/uploads/2021/01/LIBBY-DAVIES-POSTER.jpg
ORGANIZER;CN="VanGogos":MAILTO:vangogos1@gmail.com
END:VEVENT
END:VCALENDAR