BEGIN:VCALENDAR
VERSION:2.0
PRODID:-//Grandmothers to Grandmothers Campaign - ECPv6.15.20//NONSGML v1.0//EN
CALSCALE:GREGORIAN
METHOD:PUBLISH
X-ORIGINAL-URL:https://grandmotherscampaign.org
X-WR-CALDESC:Events for Grandmothers to Grandmothers Campaign
REFRESH-INTERVAL;VALUE=DURATION:PT1H
X-Robots-Tag:noindex
X-PUBLISHED-TTL:PT1H
BEGIN:VTIMEZONE
TZID:America/Vancouver
BEGIN:DAYLIGHT
TZOFFSETFROM:-0800
TZOFFSETTO:-0700
TZNAME:PDT
DTSTART:20200308T100000
END:DAYLIGHT
BEGIN:STANDARD
TZOFFSETFROM:-0700
TZOFFSETTO:-0800
TZNAME:PST
DTSTART:20201101T090000
END:STANDARD
BEGIN:DAYLIGHT
TZOFFSETFROM:-0800
TZOFFSETTO:-0700
TZNAME:PDT
DTSTART:20210314T100000
END:DAYLIGHT
BEGIN:STANDARD
TZOFFSETFROM:-0700
TZOFFSETTO:-0800
TZNAME:PST
DTSTART:20211107T090000
END:STANDARD
BEGIN:DAYLIGHT
TZOFFSETFROM:-0800
TZOFFSETTO:-0700
TZNAME:PDT
DTSTART:20220313T100000
END:DAYLIGHT
BEGIN:STANDARD
TZOFFSETFROM:-0700
TZOFFSETTO:-0800
TZNAME:PST
DTSTART:20221106T090000
END:STANDARD
END:VTIMEZONE
BEGIN:VEVENT
DTSTART;TZID=America/Vancouver:20210129T100000
DTEND;TZID=America/Vancouver:20210129T113000
DTSTAMP:20260426T003147
CREATED:20210111T150350Z
LAST-MODIFIED:20210111T150959Z
UID:1876-1611914400-1611919800@grandmotherscampaign.org
SUMMARY:Age Strong in 2021 (Online)
DESCRIPTION:Join Active Aging Coach\, Patti Bishop\, BSc\, RHN for a 90-minute wellness workshop focused on women over 50. You will learn:\n– the value of strength training as you age\n– how both sleep and stress can affect weight loss and gain\n– how to decrease joint pain\n– what cravings are and what they mean\nThere will be a combination of inspiring information and movement. Get ready to improve your balance and posture for a healthier you! Following the presentation\, participants will be invited to take part in a free five-day wellness challenge. \nAll proceeds from this event are donated to the Stephen Lewis Foundation’s Grandmothers to Grandmothers campaign. Resources from the Campaign are invested directly at the community level\, with grassroots organizations that provide African grandmothers and the children in their care with supports that include food\, educational supplies\, uniforms and school fees\, medical care\, HIV counselling & testing\, adequate housing and bedding\, counselling & support groups\, home visits and much more. \nEvent tickets for “Age Strong in 2021” are $15.\nYour support can reach even further! Instead of purchasing a $15 ticket\, you can choose to make a donation of $20 or more and you will receive a tax receipt.\nPlease register through the Grandmothers’ fundraising page: https://slf.akaraisin.com/grandmotherspledges2021/AgeStrong2021 \nIf you have any questions about the event or registration\, you can contact us at welisagogos@gmail.com.
URL:https://grandmotherscampaign.org/event/age-strong-in-2021/
LOCATION:Facebook
CATEGORIES:Online
ATTACH;FMTTYPE=image/jpeg:https://grandmotherscampaign.org/wp-content/uploads/2021/01/Banner-Patti.jpg
ORGANIZER;CN="Welisa Gogos":MAILTO:welisagogos@gmail.com
END:VEVENT
END:VCALENDAR