BEGIN:VCALENDAR
VERSION:2.0
PRODID:-//Grandmothers to Grandmothers Campaign - ECPv6.15.20//NONSGML v1.0//EN
CALSCALE:GREGORIAN
METHOD:PUBLISH
X-ORIGINAL-URL:https://grandmotherscampaign.org
X-WR-CALDESC:Events for Grandmothers to Grandmothers Campaign
REFRESH-INTERVAL;VALUE=DURATION:PT1H
X-Robots-Tag:noindex
X-PUBLISHED-TTL:PT1H
BEGIN:VTIMEZONE
TZID:America/Vancouver
BEGIN:DAYLIGHT
TZOFFSETFROM:-0800
TZOFFSETTO:-0700
TZNAME:PDT
DTSTART:20200308T100000
END:DAYLIGHT
BEGIN:STANDARD
TZOFFSETFROM:-0700
TZOFFSETTO:-0800
TZNAME:PST
DTSTART:20201101T090000
END:STANDARD
BEGIN:DAYLIGHT
TZOFFSETFROM:-0800
TZOFFSETTO:-0700
TZNAME:PDT
DTSTART:20210314T100000
END:DAYLIGHT
BEGIN:STANDARD
TZOFFSETFROM:-0700
TZOFFSETTO:-0800
TZNAME:PST
DTSTART:20211107T090000
END:STANDARD
BEGIN:DAYLIGHT
TZOFFSETFROM:-0800
TZOFFSETTO:-0700
TZNAME:PDT
DTSTART:20220313T100000
END:DAYLIGHT
BEGIN:STANDARD
TZOFFSETFROM:-0700
TZOFFSETTO:-0800
TZNAME:PST
DTSTART:20221106T090000
END:STANDARD
END:VTIMEZONE
BEGIN:VEVENT
DTSTART;TZID=America/Vancouver:20210201T130000
DTEND;TZID=America/Vancouver:20210201T143000
DTSTAMP:20260425T224604
CREATED:20210129T211903Z
LAST-MODIFIED:20210129T211903Z
UID:1991-1612184400-1612189800@grandmotherscampaign.org
SUMMARY:Tammy's Zoom Art Classes (Online)
DESCRIPTION:Free art class on Zoom\, donate to Grandmothers Campaign if you choose. Step-by-step instructions\, absolutely no experience needed. Really. If you can write your name\, you can do it! Very few basic materials required. Classes are most Mondays 1pm and 7pm PST. It’s a fun way to connect and try something new! You must email Tammy to get the Zoom link for the class: taroutley@hotmail.com.
URL:https://grandmotherscampaign.org/event/tammys-zoom-art-classes-online/
LOCATION:Zoom
CATEGORIES:Online
ATTACH;FMTTYPE=image/png:https://grandmotherscampaign.org/wp-content/uploads/2021/01/RainFriendsPoster.png
END:VEVENT
END:VCALENDAR