BEGIN:VCALENDAR
VERSION:2.0
PRODID:-//Grandmothers to Grandmothers Campaign - ECPv6.15.20//NONSGML v1.0//EN
CALSCALE:GREGORIAN
METHOD:PUBLISH
X-WR-CALNAME:Grandmothers to Grandmothers Campaign
X-ORIGINAL-URL:https://grandmotherscampaign.org
X-WR-CALDESC:Events for Grandmothers to Grandmothers Campaign
REFRESH-INTERVAL;VALUE=DURATION:PT1H
X-Robots-Tag:noindex
X-PUBLISHED-TTL:PT1H
BEGIN:VTIMEZONE
TZID:America/Vancouver
BEGIN:DAYLIGHT
TZOFFSETFROM:-0800
TZOFFSETTO:-0700
TZNAME:PDT
DTSTART:20200308T100000
END:DAYLIGHT
BEGIN:STANDARD
TZOFFSETFROM:-0700
TZOFFSETTO:-0800
TZNAME:PST
DTSTART:20201101T090000
END:STANDARD
BEGIN:DAYLIGHT
TZOFFSETFROM:-0800
TZOFFSETTO:-0700
TZNAME:PDT
DTSTART:20210314T100000
END:DAYLIGHT
BEGIN:STANDARD
TZOFFSETFROM:-0700
TZOFFSETTO:-0800
TZNAME:PST
DTSTART:20211107T090000
END:STANDARD
BEGIN:DAYLIGHT
TZOFFSETFROM:-0800
TZOFFSETTO:-0700
TZNAME:PDT
DTSTART:20220313T100000
END:DAYLIGHT
BEGIN:STANDARD
TZOFFSETFROM:-0700
TZOFFSETTO:-0800
TZNAME:PST
DTSTART:20221106T090000
END:STANDARD
END:VTIMEZONE
BEGIN:VEVENT
DTSTART;TZID=America/Vancouver:20210208T090000
DTEND;TZID=America/Vancouver:20210208T210000
DTSTAMP:20260425T224412
CREATED:20210208T195051Z
LAST-MODIFIED:20210208T212556Z
UID:2042-1612774800-1612818000@grandmotherscampaign.org
SUMMARY:Solidarity Souper Stay-at-home Supper - Feb. 8 - Mar. 8 (Online\, Multi-day)
DESCRIPTION:Because of COVID-19 restrictions\, the Burnaby Gogos can’t hold our annual International Women’s Day soup event! We invite our supporters to enjoy a stay-at-home soup dinner\, donate online to our Grandmothers Campaign fundraising page and send us photos of their soup-making and/or meal along with their soup recipes. After the event is over\, we will compile the recipes and email them to those who have contributed.\nContact: burnabygogos@gmail.com
URL:https://grandmotherscampaign.org/event/solidarity-souper-stay-at-home-supper-burnaby-gogos-online/
LOCATION:Online
CATEGORIES:Multi-day,Online
ORGANIZER;CN="Burnaby Gogos":MAILTO:burnabygogos2@gmail.com
END:VEVENT
END:VCALENDAR