BEGIN:VCALENDAR
VERSION:2.0
PRODID:-//Grandmothers to Grandmothers Campaign - ECPv6.15.20//NONSGML v1.0//EN
CALSCALE:GREGORIAN
METHOD:PUBLISH
X-ORIGINAL-URL:https://grandmotherscampaign.org
X-WR-CALDESC:Events for Grandmothers to Grandmothers Campaign
REFRESH-INTERVAL;VALUE=DURATION:PT1H
X-Robots-Tag:noindex
X-PUBLISHED-TTL:PT1H
BEGIN:VTIMEZONE
TZID:America/Regina
BEGIN:STANDARD
TZOFFSETFROM:-0600
TZOFFSETTO:-0600
TZNAME:CST
DTSTART:20200101T000000
END:STANDARD
END:VTIMEZONE
BEGIN:VEVENT
DTSTART;TZID=America/Regina:20210213T193000
DTEND;TZID=America/Regina:20210213T203000
DTSTAMP:20260425T224614
CREATED:20210202T005414Z
LAST-MODIFIED:20210202T005720Z
UID:2005-1613244600-1613248200@grandmotherscampaign.org
SUMMARY:Virtual Concert with Connie Kaldor (Online)
DESCRIPTION:A Valentines Treat: Big Skies to Bridesmaids Dresses \nGrandmothers 4 Grandmothers Saskatoon is thrilled to host a virtual benefit concert by Connie Kaldor and family on Saturday February 13 at 7:30 pm. \nTickets only $20 per person\, $30 for households where more than one person will be watching. Includes a prairie cookbook featuring recipes for Saskatoon pie\, jellied lime salad and other country potluck favourites of yesteryear. \nConnie Kaldor is a Saskatchewan-born singer-songwriter and recipient of three Juno Awards. She creates beautiful and whimsical images of her beloved prairies with iconic songs like Wood River and Saskatoon Moon. \nJoin us for a fun evening for a great cause\, live-streamed from Montreal with the opportunity for a chat with Connie after the hour-long performance. \nPlease share!
URL:https://grandmotherscampaign.org/event/virtual-concert-with-connie-kaldor/
LOCATION:Online
CATEGORIES:Online
ORGANIZER;CN="G4G Saskatoon":MAILTO:g4gsaskatoon@gmail.com
END:VEVENT
END:VCALENDAR