BEGIN:VCALENDAR
VERSION:2.0
PRODID:-//Grandmothers to Grandmothers Campaign - ECPv6.15.20//NONSGML v1.0//EN
CALSCALE:GREGORIAN
METHOD:PUBLISH
X-ORIGINAL-URL:https://grandmotherscampaign.org
X-WR-CALDESC:Events for Grandmothers to Grandmothers Campaign
REFRESH-INTERVAL;VALUE=DURATION:PT1H
X-Robots-Tag:noindex
X-PUBLISHED-TTL:PT1H
BEGIN:VTIMEZONE
TZID:America/Edmonton
BEGIN:DAYLIGHT
TZOFFSETFROM:-0700
TZOFFSETTO:-0600
TZNAME:MDT
DTSTART:20200308T090000
END:DAYLIGHT
BEGIN:STANDARD
TZOFFSETFROM:-0600
TZOFFSETTO:-0700
TZNAME:MST
DTSTART:20201101T080000
END:STANDARD
BEGIN:DAYLIGHT
TZOFFSETFROM:-0700
TZOFFSETTO:-0600
TZNAME:MDT
DTSTART:20210314T090000
END:DAYLIGHT
BEGIN:STANDARD
TZOFFSETFROM:-0600
TZOFFSETTO:-0700
TZNAME:MST
DTSTART:20211107T080000
END:STANDARD
BEGIN:DAYLIGHT
TZOFFSETFROM:-0700
TZOFFSETTO:-0600
TZNAME:MDT
DTSTART:20220313T090000
END:DAYLIGHT
BEGIN:STANDARD
TZOFFSETFROM:-0600
TZOFFSETTO:-0700
TZNAME:MST
DTSTART:20221106T080000
END:STANDARD
END:VTIMEZONE
BEGIN:VEVENT
DTSTART;TZID=America/Edmonton:20210224T190000
DTEND;TZID=America/Edmonton:20210224T203000
DTSTAMP:20260425T224603
CREATED:20210128T214327Z
LAST-MODIFIED:20210129T143839Z
UID:1940-1614193200-1614198600@grandmotherscampaign.org
SUMMARY:Bianca Marais Presentation (online)
DESCRIPTION:Ujamaa Grandmas present Bianca Marais. Bianca will share information about her life growing up in apartheid South Africa\, her work with a Cotlands\, an SLF partner in Soweto and her two novel based on her experiences – Hum if You Don’t Know the Words and If You Want to Make God Laugh. Donations graciously accepted at https://slf.akaraisin.com/ui/grandmotherspledges2021/t/Ujamaagrandmas
URL:https://grandmotherscampaign.org/event/bianca-marais-presentation/
LOCATION:Online
CATEGORIES:Online
ATTACH;FMTTYPE=image/jpeg:https://grandmotherscampaign.org/wp-content/uploads/2021/01/UG-Bianca-Marais.jpg
ORGANIZER;CN="Ujamaa Grandmas":MAILTO:message@ujamaagrandmas.com
END:VEVENT
END:VCALENDAR