BEGIN:VCALENDAR
VERSION:2.0
PRODID:-//Grandmothers to Grandmothers Campaign - ECPv6.15.20//NONSGML v1.0//EN
CALSCALE:GREGORIAN
METHOD:PUBLISH
X-ORIGINAL-URL:https://grandmotherscampaign.org
X-WR-CALDESC:Events for Grandmothers to Grandmothers Campaign
REFRESH-INTERVAL;VALUE=DURATION:PT1H
X-Robots-Tag:noindex
X-PUBLISHED-TTL:PT1H
BEGIN:VTIMEZONE
TZID:Europe/London
BEGIN:DAYLIGHT
TZOFFSETFROM:+0000
TZOFFSETTO:+0100
TZNAME:BST
DTSTART:20200329T010000
END:DAYLIGHT
BEGIN:STANDARD
TZOFFSETFROM:+0100
TZOFFSETTO:+0000
TZNAME:GMT
DTSTART:20201025T010000
END:STANDARD
BEGIN:DAYLIGHT
TZOFFSETFROM:+0000
TZOFFSETTO:+0100
TZNAME:BST
DTSTART:20210328T010000
END:DAYLIGHT
BEGIN:STANDARD
TZOFFSETFROM:+0100
TZOFFSETTO:+0000
TZNAME:GMT
DTSTART:20211031T010000
END:STANDARD
BEGIN:DAYLIGHT
TZOFFSETFROM:+0000
TZOFFSETTO:+0100
TZNAME:BST
DTSTART:20220327T010000
END:DAYLIGHT
BEGIN:STANDARD
TZOFFSETFROM:+0100
TZOFFSETTO:+0000
TZNAME:GMT
DTSTART:20221030T010000
END:STANDARD
END:VTIMEZONE
BEGIN:VTIMEZONE
TZID:America/Toronto
BEGIN:DAYLIGHT
TZOFFSETFROM:-0500
TZOFFSETTO:-0400
TZNAME:EDT
DTSTART:20200308T070000
END:DAYLIGHT
BEGIN:STANDARD
TZOFFSETFROM:-0400
TZOFFSETTO:-0500
TZNAME:EST
DTSTART:20201101T060000
END:STANDARD
BEGIN:DAYLIGHT
TZOFFSETFROM:-0500
TZOFFSETTO:-0400
TZNAME:EDT
DTSTART:20210314T070000
END:DAYLIGHT
BEGIN:STANDARD
TZOFFSETFROM:-0400
TZOFFSETTO:-0500
TZNAME:EST
DTSTART:20211107T060000
END:STANDARD
BEGIN:DAYLIGHT
TZOFFSETFROM:-0500
TZOFFSETTO:-0400
TZNAME:EDT
DTSTART:20220313T070000
END:DAYLIGHT
BEGIN:STANDARD
TZOFFSETFROM:-0400
TZOFFSETTO:-0500
TZNAME:EST
DTSTART:20221106T060000
END:STANDARD
END:VTIMEZONE
BEGIN:VEVENT
DTSTART;TZID=Europe/London:20210308T150000
DTEND;TZID=Europe/London:20210308T170000
DTSTAMP:20260425T210647
CREATED:20210301T200118Z
LAST-MODIFIED:20210301T204108Z
UID:2171-1615215600-1615222800@grandmotherscampaign.org
SUMMARY:International Women's Day Celebration of African Women Writers (online)
DESCRIPTION:Join the 4Gs for Africa on Zoom to mark International Women’s Day by celebrating a new generation of young female writers whose work reflects the determination and resilience of African\nwomen facing adversity – just like the African grandmothers we support. We have selected three books: a novel\, an autobiography and a manifesto. You may like to read the books in\nadvance\, but this is not essential as we will outline the contents to form the basis for a more general discussion on women’s rights. \nVisit the 4Gs website for more information.
URL:https://grandmotherscampaign.org/event/iwd-celebration-of-african-women-writers/
LOCATION:Zoom
CATEGORIES:Online
END:VEVENT
BEGIN:VEVENT
DTSTART;TZID=America/Toronto:20210308T170000
DTEND;TZID=America/Toronto:20210308T203000
DTSTAMP:20260425T210647
CREATED:20210309T220010Z
LAST-MODIFIED:20210309T220010Z
UID:2245-1615222800-1615235400@grandmotherscampaign.org
SUMMARY:Treasures From Grannies' Attics (Online)
DESCRIPTION:The Fenelon Falls Grandmothers for Grandmothers are holding an online art auction featuring paintings\, photos and figurines. Successful bidders will need to pick-up their items locally in Fenelon Falls. To browse the lots up for auction visit http://maxsold.com and look for auctions under Peterborough.
URL:https://grandmotherscampaign.org/event/treasures-from-grannies-attics-online/
LOCATION:Online
CATEGORIES:Multi-day,Online
ATTACH;FMTTYPE=image/jpeg:https://grandmotherscampaign.org/wp-content/uploads/2021/03/2snowscene.jpg
ORGANIZER;CN="Fenelon Falls Grandmothers to Grandmothers":MAILTO:gdbachman@yahoo.com
END:VEVENT
END:VCALENDAR