BEGIN:VCALENDAR
VERSION:2.0
PRODID:-//Grandmothers to Grandmothers Campaign - ECPv6.15.20//NONSGML v1.0//EN
CALSCALE:GREGORIAN
METHOD:PUBLISH
X-ORIGINAL-URL:https://grandmotherscampaign.org
X-WR-CALDESC:Events for Grandmothers to Grandmothers Campaign
REFRESH-INTERVAL;VALUE=DURATION:PT1H
X-Robots-Tag:noindex
X-PUBLISHED-TTL:PT1H
BEGIN:VTIMEZONE
TZID:America/Toronto
BEGIN:DAYLIGHT
TZOFFSETFROM:-0500
TZOFFSETTO:-0400
TZNAME:EDT
DTSTART:20200308T070000
END:DAYLIGHT
BEGIN:STANDARD
TZOFFSETFROM:-0400
TZOFFSETTO:-0500
TZNAME:EST
DTSTART:20201101T060000
END:STANDARD
BEGIN:DAYLIGHT
TZOFFSETFROM:-0500
TZOFFSETTO:-0400
TZNAME:EDT
DTSTART:20210314T070000
END:DAYLIGHT
BEGIN:STANDARD
TZOFFSETFROM:-0400
TZOFFSETTO:-0500
TZNAME:EST
DTSTART:20211107T060000
END:STANDARD
BEGIN:DAYLIGHT
TZOFFSETFROM:-0500
TZOFFSETTO:-0400
TZNAME:EDT
DTSTART:20220313T070000
END:DAYLIGHT
BEGIN:STANDARD
TZOFFSETFROM:-0400
TZOFFSETTO:-0500
TZNAME:EST
DTSTART:20221106T060000
END:STANDARD
END:VTIMEZONE
BEGIN:VEVENT
DTSTART;TZID=America/Toronto:20210311T193000
DTEND;TZID=America/Toronto:20210311T210000
DTSTAMP:20260425T211147
CREATED:20210129T153658Z
LAST-MODIFIED:20210129T153926Z
UID:1944-1615491000-1615496400@grandmotherscampaign.org
SUMMARY:Explore Africa - History (Online)
DESCRIPTION:1885: The Berlin Conference and the Scramble for Africa – Dr Olivier Courteaux \nUntil then limited to the coasts\, the colonization of Central Africa began in earnest in the 1882. What role did the Berlin Conference plan in 1885? As it turned out\, the main decision was the creation of the independent state of the Congo\, but in reality it became the property of the King of the Belgians\, Leopold II. \nVisit http://www.grandmotherspartneringwithafrica.com to register for the event.
URL:https://grandmotherscampaign.org/event/explore-africa-history-online/
LOCATION:Zoom
CATEGORIES:Multi-day,Online
END:VEVENT
END:VCALENDAR