BEGIN:VCALENDAR
VERSION:2.0
PRODID:-//Grandmothers to Grandmothers Campaign - ECPv6.15.20//NONSGML v1.0//EN
CALSCALE:GREGORIAN
METHOD:PUBLISH
X-WR-CALNAME:Grandmothers to Grandmothers Campaign
X-ORIGINAL-URL:https://grandmotherscampaign.org
X-WR-CALDESC:Events for Grandmothers to Grandmothers Campaign
REFRESH-INTERVAL;VALUE=DURATION:PT1H
X-Robots-Tag:noindex
X-PUBLISHED-TTL:PT1H
BEGIN:VTIMEZONE
TZID:America/Toronto
BEGIN:DAYLIGHT
TZOFFSETFROM:-0500
TZOFFSETTO:-0400
TZNAME:EDT
DTSTART:20200308T070000
END:DAYLIGHT
BEGIN:STANDARD
TZOFFSETFROM:-0400
TZOFFSETTO:-0500
TZNAME:EST
DTSTART:20201101T060000
END:STANDARD
BEGIN:DAYLIGHT
TZOFFSETFROM:-0500
TZOFFSETTO:-0400
TZNAME:EDT
DTSTART:20210314T070000
END:DAYLIGHT
BEGIN:STANDARD
TZOFFSETFROM:-0400
TZOFFSETTO:-0500
TZNAME:EST
DTSTART:20211107T060000
END:STANDARD
BEGIN:DAYLIGHT
TZOFFSETFROM:-0500
TZOFFSETTO:-0400
TZNAME:EDT
DTSTART:20220313T070000
END:DAYLIGHT
BEGIN:STANDARD
TZOFFSETFROM:-0400
TZOFFSETTO:-0500
TZNAME:EST
DTSTART:20221106T060000
END:STANDARD
END:VTIMEZONE
BEGIN:VEVENT
DTSTART;TZID=America/Toronto:20210314T000000
DTEND;TZID=America/Toronto:20210314T235900
DTSTAMP:20260425T205838
CREATED:20210128T213340Z
LAST-MODIFIED:20210217T140103Z
UID:1922-1615680000-1615766340@grandmotherscampaign.org
SUMMARY:Virtual Stride Walk- March 14 to April 25 (Online\, Ongoing)
DESCRIPTION:Victoria Grandmothers for Africa are doing a virtual Stride Walk from March 14th- April 25th. “VG4A Magical Mystery Tour- Celebrating 15 years of amazing”! Participants will count their steps\, aiming for 15 thousand kilometers collectively. We can do this. Our newsletters at the end of each week will have four components; an article from a member of VG4A or a participant that has experienced Africa\, a memory from our veteran members\, a progress report on our steps\, and membership directed motivation. It is going to be such fun. 20 dollars to register.
URL:https://grandmotherscampaign.org/event/vg4a-virtual-stride-walk/
CATEGORIES:Multi-day,Online
END:VEVENT
END:VCALENDAR