BEGIN:VCALENDAR
VERSION:2.0
PRODID:-//Grandmothers to Grandmothers Campaign - ECPv6.15.20//NONSGML v1.0//EN
CALSCALE:GREGORIAN
METHOD:PUBLISH
X-ORIGINAL-URL:https://grandmotherscampaign.org
X-WR-CALDESC:Events for Grandmothers to Grandmothers Campaign
REFRESH-INTERVAL;VALUE=DURATION:PT1H
X-Robots-Tag:noindex
X-PUBLISHED-TTL:PT1H
BEGIN:VTIMEZONE
TZID:America/Regina
BEGIN:STANDARD
TZOFFSETFROM:-0600
TZOFFSETTO:-0600
TZNAME:CST
DTSTART:20200101T000000
END:STANDARD
END:VTIMEZONE
BEGIN:VEVENT
DTSTART;TZID=America/Regina:20210322T133000
DTEND;TZID=America/Regina:20210322T143000
DTSTAMP:20260425T211147
CREATED:20210302T203235Z
LAST-MODIFIED:20210302T203741Z
UID:2207-1616419800-1616423400@grandmotherscampaign.org
SUMMARY:Chair Yoga with Sol's Fitness (Online)
DESCRIPTION:Join G4G Regina and Sol’s Fitness for chair yoga! \nAdapting the yoga practice with the use of a chair and other props. This class was designed to meet the needs of our changing body. You will need a sturdy chair and foam block (or small pillow). \nTo register please email g4gregina@gmail.com. There is no cost for the classes but donations to the Grandmothers Campaign are welcome and can be made on G4G Regina’s online fundraising page: https://slf.akaraisin.com/grandmotherspledges2021/reginafitness \nTax receipts will be issued for donations of $20 or more.
URL:https://grandmotherscampaign.org/event/chair-yoga-with-sol-fitness-online/
LOCATION:Zoom
CATEGORIES:Online
ORGANIZER;CN="Grandmothers 4 Grandmothers Regina":MAILTO:g4gregina@gmail.com
END:VEVENT
END:VCALENDAR