BEGIN:VCALENDAR
VERSION:2.0
PRODID:-//Grandmothers to Grandmothers Campaign - ECPv6.15.20//NONSGML v1.0//EN
CALSCALE:GREGORIAN
METHOD:PUBLISH
X-ORIGINAL-URL:https://grandmotherscampaign.org
X-WR-CALDESC:Events for Grandmothers to Grandmothers Campaign
REFRESH-INTERVAL;VALUE=DURATION:PT1H
X-Robots-Tag:noindex
X-PUBLISHED-TTL:PT1H
BEGIN:VTIMEZONE
TZID:America/Toronto
BEGIN:DAYLIGHT
TZOFFSETFROM:-0500
TZOFFSETTO:-0400
TZNAME:EDT
DTSTART:20200308T070000
END:DAYLIGHT
BEGIN:STANDARD
TZOFFSETFROM:-0400
TZOFFSETTO:-0500
TZNAME:EST
DTSTART:20201101T060000
END:STANDARD
BEGIN:DAYLIGHT
TZOFFSETFROM:-0500
TZOFFSETTO:-0400
TZNAME:EDT
DTSTART:20210314T070000
END:DAYLIGHT
BEGIN:STANDARD
TZOFFSETFROM:-0400
TZOFFSETTO:-0500
TZNAME:EST
DTSTART:20211107T060000
END:STANDARD
BEGIN:DAYLIGHT
TZOFFSETFROM:-0500
TZOFFSETTO:-0400
TZNAME:EDT
DTSTART:20220313T070000
END:DAYLIGHT
BEGIN:STANDARD
TZOFFSETFROM:-0400
TZOFFSETTO:-0500
TZNAME:EST
DTSTART:20221106T060000
END:STANDARD
END:VTIMEZONE
BEGIN:VEVENT
DTSTART;TZID=America/Toronto:20210325T163000
DTEND;TZID=America/Toronto:20210325T183000
DTSTAMP:20260425T211146
CREATED:20210201T165532Z
LAST-MODIFIED:20210201T165532Z
UID:1981-1616689800-1616697000@grandmotherscampaign.org
SUMMARY:Explore Africa - Food (Online)
DESCRIPTION:Grandmothers Partnering with Africa presents a Somali/Fusion Cook-a-long with Xawaash restaurant Chefs \nJoin Abdullahi and Leila for a virtual cooking class. Somali food is simple. It relies on fresh ingredients and a balance of aromatic spices. This is an opportunity to participate in a hands-on Somali cooking experience and have a delicious dinner to eat at home the same evening. The session will be recorded and sent to you the day after the class\, so if you prefer\, you can relax and watch and then prepare the recipes at your leisure. Shopping lists\, recipes and other information will be sent to you a week before the event. \nVisit https://grandmotherspartneringwithafrica.com for registration details.
URL:https://grandmotherscampaign.org/event/explore-africa-food-online/
LOCATION:Zoom
CATEGORIES:Online
END:VEVENT
END:VCALENDAR