BEGIN:VCALENDAR
VERSION:2.0
PRODID:-//Grandmothers to Grandmothers Campaign - ECPv6.15.20//NONSGML v1.0//EN
CALSCALE:GREGORIAN
METHOD:PUBLISH
X-ORIGINAL-URL:https://grandmotherscampaign.org
X-WR-CALDESC:Events for Grandmothers to Grandmothers Campaign
REFRESH-INTERVAL;VALUE=DURATION:PT1H
X-Robots-Tag:noindex
X-PUBLISHED-TTL:PT1H
BEGIN:VTIMEZONE
TZID:America/Toronto
BEGIN:DAYLIGHT
TZOFFSETFROM:-0500
TZOFFSETTO:-0400
TZNAME:EDT
DTSTART:20200308T070000
END:DAYLIGHT
BEGIN:STANDARD
TZOFFSETFROM:-0400
TZOFFSETTO:-0500
TZNAME:EST
DTSTART:20201101T060000
END:STANDARD
BEGIN:DAYLIGHT
TZOFFSETFROM:-0500
TZOFFSETTO:-0400
TZNAME:EDT
DTSTART:20210314T070000
END:DAYLIGHT
BEGIN:STANDARD
TZOFFSETFROM:-0400
TZOFFSETTO:-0500
TZNAME:EST
DTSTART:20211107T060000
END:STANDARD
BEGIN:DAYLIGHT
TZOFFSETFROM:-0500
TZOFFSETTO:-0400
TZNAME:EDT
DTSTART:20220313T070000
END:DAYLIGHT
BEGIN:STANDARD
TZOFFSETFROM:-0400
TZOFFSETTO:-0500
TZNAME:EST
DTSTART:20221106T060000
END:STANDARD
END:VTIMEZONE
BEGIN:VEVENT
DTSTART;TZID=America/Toronto:20210508T000000
DTEND;TZID=America/Toronto:20210508T235900
DTSTAMP:20260425T173106
CREATED:20210412T135434Z
LAST-MODIFIED:20210412T155154Z
UID:2381-1620432000-1620518340@grandmotherscampaign.org
SUMMARY:Mother’s Day Tea and Treats Box ( In-person)
DESCRIPTION:The Grand River Grannies offer you a special gift box of delectable treats and delicious teas for Mother’s Day. \nAll proceeds are donated to the Grandmothers to Grandmothers Campaign\, an initiative of the Stephen Lewis Foundation. \nEarly Bird Special: pre-order before April 24th and save $5.00! \nPick up Saturday May 8th\, 2021 between 1 – 4pm\, GLENHYRST GARDENER’S COTTAGE\, front porch – 20 Ava Road\, Brantford \nOrder Online at https://www.grandrivergrannies.com/
URL:https://grandmotherscampaign.org/event/mothers-day-tea-and-treats-box/
LOCATION:Gardeners Cottage\, Glenhyrst\, 20 Ava Road\, Brantford\, ON\, N3T\, Canada
CATEGORIES:Online
ATTACH;FMTTYPE=image/jpeg:https://grandmotherscampaign.org/wp-content/uploads/2021/04/3E8F3E84-BCFC-4679-A0B9-A8E04050FB99-scaled.jpeg
ORGANIZER;CN="Grand River Grannies":MAILTO:grgrannies@gmail.com
END:VEVENT
END:VCALENDAR