BEGIN:VCALENDAR
VERSION:2.0
PRODID:-//Grandmothers to Grandmothers Campaign - ECPv6.15.20//NONSGML v1.0//EN
CALSCALE:GREGORIAN
METHOD:PUBLISH
X-WR-CALNAME:Grandmothers to Grandmothers Campaign
X-ORIGINAL-URL:https://grandmotherscampaign.org
X-WR-CALDESC:Events for Grandmothers to Grandmothers Campaign
REFRESH-INTERVAL;VALUE=DURATION:PT1H
X-Robots-Tag:noindex
X-PUBLISHED-TTL:PT1H
BEGIN:VTIMEZONE
TZID:America/Toronto
BEGIN:DAYLIGHT
TZOFFSETFROM:-0500
TZOFFSETTO:-0400
TZNAME:EDT
DTSTART:20200308T070000
END:DAYLIGHT
BEGIN:STANDARD
TZOFFSETFROM:-0400
TZOFFSETTO:-0500
TZNAME:EST
DTSTART:20201101T060000
END:STANDARD
BEGIN:DAYLIGHT
TZOFFSETFROM:-0500
TZOFFSETTO:-0400
TZNAME:EDT
DTSTART:20210314T070000
END:DAYLIGHT
BEGIN:STANDARD
TZOFFSETFROM:-0400
TZOFFSETTO:-0500
TZNAME:EST
DTSTART:20211107T060000
END:STANDARD
BEGIN:DAYLIGHT
TZOFFSETFROM:-0500
TZOFFSETTO:-0400
TZNAME:EDT
DTSTART:20220313T070000
END:DAYLIGHT
BEGIN:STANDARD
TZOFFSETFROM:-0400
TZOFFSETTO:-0500
TZNAME:EST
DTSTART:20221106T060000
END:STANDARD
END:VTIMEZONE
BEGIN:VEVENT
DTSTART;TZID=America/Toronto:20210517T140000
DTEND;TZID=America/Toronto:20210517T150000
DTSTAMP:20260425T172901
CREATED:20210412T185559Z
LAST-MODIFIED:20210412T185559Z
UID:2385-1621260000-1621263600@grandmotherscampaign.org
SUMMARY:Queens\, Goddesses and Women of Influence - virtual tour of the ROM (Online)
DESCRIPTION:Join Grandmothers Partnering With Africa for a private virtual tour of the Royal Ontario Museum (ROM) exhibit called Queens\, Goddesses and Women of Influence. \nThe tour will be led by 3 or 4 docents and will “take” us around the ROM\, looking at women who were Queens\, Goddesses or just pretty important. The entire event will take 1 hour; 45 minutes will be the tour itself and then we will have 15 minutes for questions. \nWe are able to have 100 screens and invite other Grandmothers Campaign members to join us. In order to manage the numbers\, we are requiring registration. There is no charge for this event and it is not a fundraiser; it is just a fun activity for our collective. \nRegister in advance for this tour:\nhttps://us02web.zoom.us/meeting/register/tZMpc–przooHt3D34aFh2jeNmfCY6X743Sm \nAfter registering\, you will receive a confirmation email containing information about joining the meeting. \nPlease send any questions about the event to: GPWAfrica@gmail.com
URL:https://grandmotherscampaign.org/event/queens-goddesses-and-women-of-influence-virtual-tour-of-the-rom-online/
LOCATION:Zoom
CATEGORIES:Online
END:VEVENT
END:VCALENDAR