BEGIN:VCALENDAR
VERSION:2.0
PRODID:-//Grandmothers to Grandmothers Campaign - ECPv6.15.20//NONSGML v1.0//EN
CALSCALE:GREGORIAN
METHOD:PUBLISH
X-ORIGINAL-URL:https://grandmotherscampaign.org
X-WR-CALDESC:Events for Grandmothers to Grandmothers Campaign
REFRESH-INTERVAL;VALUE=DURATION:PT1H
X-Robots-Tag:noindex
X-PUBLISHED-TTL:PT1H
BEGIN:VTIMEZONE
TZID:America/Toronto
BEGIN:DAYLIGHT
TZOFFSETFROM:-0500
TZOFFSETTO:-0400
TZNAME:EDT
DTSTART:20200308T070000
END:DAYLIGHT
BEGIN:STANDARD
TZOFFSETFROM:-0400
TZOFFSETTO:-0500
TZNAME:EST
DTSTART:20201101T060000
END:STANDARD
BEGIN:DAYLIGHT
TZOFFSETFROM:-0500
TZOFFSETTO:-0400
TZNAME:EDT
DTSTART:20210314T070000
END:DAYLIGHT
BEGIN:STANDARD
TZOFFSETFROM:-0400
TZOFFSETTO:-0500
TZNAME:EST
DTSTART:20211107T060000
END:STANDARD
BEGIN:DAYLIGHT
TZOFFSETFROM:-0500
TZOFFSETTO:-0400
TZNAME:EDT
DTSTART:20220313T070000
END:DAYLIGHT
BEGIN:STANDARD
TZOFFSETFROM:-0400
TZOFFSETTO:-0500
TZNAME:EST
DTSTART:20221106T060000
END:STANDARD
END:VTIMEZONE
BEGIN:VEVENT
DTSTART;TZID=America/Toronto:20210527T193000
DTEND;TZID=America/Toronto:20210527T210000
DTSTAMP:20260425T173321
CREATED:20210201T164619Z
LAST-MODIFIED:20210518T200720Z
UID:1989-1622143800-1622149200@grandmotherscampaign.org
SUMMARY:Explore Africa - Travel (Online)
DESCRIPTION:Join Grandmothers Partnering with Africa for “Safari 101” with Philip Solomon \nSafari – what’s it all about? An in-depth look at the origin and history of safari in East Africa and why it has become a bucket list experience for travelers. The presentation will include an overview of the safari experience today including the annual migration and what the traveler can expect when visiting Kenya and Tanzania. \nVisit https://grandmotherspartneringwithafrica.com/ to register.
URL:https://grandmotherscampaign.org/event/explore-africa-travel-online/
LOCATION:Zoom
CATEGORIES:Online
END:VEVENT
END:VCALENDAR