BEGIN:VCALENDAR
VERSION:2.0
PRODID:-//Grandmothers to Grandmothers Campaign - ECPv6.15.20//NONSGML v1.0//EN
CALSCALE:GREGORIAN
METHOD:PUBLISH
X-WR-CALNAME:Grandmothers to Grandmothers Campaign
X-ORIGINAL-URL:https://grandmotherscampaign.org
X-WR-CALDESC:Events for Grandmothers to Grandmothers Campaign
REFRESH-INTERVAL;VALUE=DURATION:PT1H
X-Robots-Tag:noindex
X-PUBLISHED-TTL:PT1H
BEGIN:VTIMEZONE
TZID:America/Toronto
BEGIN:DAYLIGHT
TZOFFSETFROM:-0500
TZOFFSETTO:-0400
TZNAME:EDT
DTSTART:20200308T070000
END:DAYLIGHT
BEGIN:STANDARD
TZOFFSETFROM:-0400
TZOFFSETTO:-0500
TZNAME:EST
DTSTART:20201101T060000
END:STANDARD
BEGIN:DAYLIGHT
TZOFFSETFROM:-0500
TZOFFSETTO:-0400
TZNAME:EDT
DTSTART:20210314T070000
END:DAYLIGHT
BEGIN:STANDARD
TZOFFSETFROM:-0400
TZOFFSETTO:-0500
TZNAME:EST
DTSTART:20211107T060000
END:STANDARD
BEGIN:DAYLIGHT
TZOFFSETFROM:-0500
TZOFFSETTO:-0400
TZNAME:EDT
DTSTART:20220313T070000
END:DAYLIGHT
BEGIN:STANDARD
TZOFFSETFROM:-0400
TZOFFSETTO:-0500
TZNAME:EST
DTSTART:20221106T060000
END:STANDARD
END:VTIMEZONE
BEGIN:VEVENT
DTSTART;TZID=America/Toronto:20211114T080000
DTEND;TZID=America/Toronto:20211214T170000
DTSTAMP:20260425T075801
CREATED:20211014T134238Z
LAST-MODIFIED:20211105T151814Z
UID:3024-1636876800-1639501200@grandmotherscampaign.org
SUMMARY:Kingston Grandmother Connection's On Line Store REOPENS
DESCRIPTION:Our successful Online Store reopens for Christmas and Holiday shopping November 14-December 14. Local pickup and delivery in Kingston\, Ontario. Art\, Textiles & Sewing\, Gifts\, Body and Bath\, Jewellery and more. Check us out! https://kingston-grandmother-connection.myshopify.com/
URL:https://grandmotherscampaign.org/event/kingston-grandmother-connections-on-line-store-reopens/
LOCATION:Online
CATEGORIES:Multi-day,Online
ORGANIZER;CN="Kingston Grandmother Connection":MAILTO:kingstongrandmotherconnection@gmail.com
END:VEVENT
END:VCALENDAR