BEGIN:VCALENDAR
VERSION:2.0
PRODID:-//Grandmothers to Grandmothers Campaign - ECPv6.15.20//NONSGML v1.0//EN
CALSCALE:GREGORIAN
METHOD:PUBLISH
X-ORIGINAL-URL:https://grandmotherscampaign.org
X-WR-CALDESC:Events for Grandmothers to Grandmothers Campaign
REFRESH-INTERVAL;VALUE=DURATION:PT1H
X-Robots-Tag:noindex
X-PUBLISHED-TTL:PT1H
BEGIN:VTIMEZONE
TZID:America/Toronto
BEGIN:DAYLIGHT
TZOFFSETFROM:-0500
TZOFFSETTO:-0400
TZNAME:EDT
DTSTART:20210314T070000
END:DAYLIGHT
BEGIN:STANDARD
TZOFFSETFROM:-0400
TZOFFSETTO:-0500
TZNAME:EST
DTSTART:20211107T060000
END:STANDARD
BEGIN:DAYLIGHT
TZOFFSETFROM:-0500
TZOFFSETTO:-0400
TZNAME:EDT
DTSTART:20220313T070000
END:DAYLIGHT
BEGIN:STANDARD
TZOFFSETFROM:-0400
TZOFFSETTO:-0500
TZNAME:EST
DTSTART:20221106T060000
END:STANDARD
BEGIN:DAYLIGHT
TZOFFSETFROM:-0500
TZOFFSETTO:-0400
TZNAME:EDT
DTSTART:20230312T070000
END:DAYLIGHT
BEGIN:STANDARD
TZOFFSETFROM:-0400
TZOFFSETTO:-0500
TZNAME:EST
DTSTART:20231105T060000
END:STANDARD
END:VTIMEZONE
BEGIN:VEVENT
DTSTART;TZID=America/Toronto:20220226T170000
DTEND;TZID=America/Toronto:20220226T183000
DTSTAMP:20260425T062007
CREATED:20220210T212015Z
LAST-MODIFIED:20220216T142935Z
UID:3370-1645894800-1645900200@grandmotherscampaign.org
SUMMARY:VanGogos Trivia Fundraiser (Online)
DESCRIPTION:VanGogos are hosting our first online trivia event of 2022!\nSaturday\, February 26 at 2 PM PST on Zoom\n$15 per person\nProceeds to the Grandmothers to Grandmothers Campaign\nThe event will run approximately 1.5 hours. No prizes\, just Bragging Rights.\nLast day to sign up: Feb. 23 \nYou can put together a team of 4 or 5 people from your grandmothers group\,\nfrom your family and friends\, whoever you like! It is lots of fun and it will challenge your brain! Our awesome Quiz Masters are Arline Oishi and Marilyn Williams\, of VanGogos. \nEvent Format\n• 3 rounds of 12 questions. Each round formatted as 4 questions\, a break out with your team to discuss answers\, and then return to the main Zoom room for the answers and the next 4 questions\, etc.\n• 4 or 5 people per team (form your own or we can assign you to a team)\n• Questions will be given verbally and also entered into Chat. NOTE: To view the questions once you are in the breakout room\, click the Chat button again. (This feature is not available on all devices.)\n• Participants should have pen and paper handy.\n• Winners will get a Certificate of Trivia Glory emailed to them. \nHow to Join\nContact Arline at aoishi@telus.net with the following information:\n• Your name and email address (if replying for a team\, name and email for each person playing with you). Participants will be emailed a Zoom link just prior to Feb. 26\n• If you are playing with a specific team or want us to assign you to a team\n• If more than one person is playing from one computer\, the names of both people.\n• Your team name\, if applicable.
URL:https://grandmotherscampaign.org/event/vangogos-trivia-fundraiser/
LOCATION:Zoom
CATEGORIES:Online
END:VEVENT
END:VCALENDAR