BEGIN:VCALENDAR
VERSION:2.0
PRODID:-//Grandmothers to Grandmothers Campaign - ECPv6.15.20//NONSGML v1.0//EN
CALSCALE:GREGORIAN
METHOD:PUBLISH
X-WR-CALNAME:Grandmothers to Grandmothers Campaign
X-ORIGINAL-URL:https://grandmotherscampaign.org
X-WR-CALDESC:Events for Grandmothers to Grandmothers Campaign
REFRESH-INTERVAL;VALUE=DURATION:PT1H
X-Robots-Tag:noindex
X-PUBLISHED-TTL:PT1H
BEGIN:VTIMEZONE
TZID:America/Regina
BEGIN:STANDARD
TZOFFSETFROM:-0600
TZOFFSETTO:-0600
TZNAME:CST
DTSTART:20210101T000000
END:STANDARD
END:VTIMEZONE
BEGIN:VEVENT
DTSTART;TZID=America/Regina:20220308T190000
DTEND;TZID=America/Regina:20220308T203000
DTSTAMP:20260423T042933
CREATED:20220210T222419Z
LAST-MODIFIED:20220210T222419Z
UID:3376-1646766000-1646771400@grandmotherscampaign.org
SUMMARY:March Trivia Madness
DESCRIPTION:Celebrate International Women’s Day 2022 and join us for an evening of Trivia fun on a Canadian theme! \nTuesday\, March 8\, 2022 at 7:00 p.m. CST by Zoom \nRound up a team of 4 or 5 people\, create a fun name for your team\, and email g4greginatreasurer@gmail.com to register. Fee: $10 per person
URL:https://grandmotherscampaign.org/event/march-trivia-madness/
LOCATION:Zoom
CATEGORIES:Online
ORGANIZER;CN="Grandmothers 4 Grandmothers Regina":MAILTO:g4gregina@gmail.com
END:VEVENT
END:VCALENDAR