BEGIN:VCALENDAR
VERSION:2.0
PRODID:-//Grandmothers to Grandmothers Campaign - ECPv6.15.20//NONSGML v1.0//EN
CALSCALE:GREGORIAN
METHOD:PUBLISH
X-ORIGINAL-URL:https://grandmotherscampaign.org
X-WR-CALDESC:Events for Grandmothers to Grandmothers Campaign
REFRESH-INTERVAL;VALUE=DURATION:PT1H
X-Robots-Tag:noindex
X-PUBLISHED-TTL:PT1H
BEGIN:VTIMEZONE
TZID:America/Toronto
BEGIN:DAYLIGHT
TZOFFSETFROM:-0500
TZOFFSETTO:-0400
TZNAME:EDT
DTSTART:20210314T070000
END:DAYLIGHT
BEGIN:STANDARD
TZOFFSETFROM:-0400
TZOFFSETTO:-0500
TZNAME:EST
DTSTART:20211107T060000
END:STANDARD
BEGIN:DAYLIGHT
TZOFFSETFROM:-0500
TZOFFSETTO:-0400
TZNAME:EDT
DTSTART:20220313T070000
END:DAYLIGHT
BEGIN:STANDARD
TZOFFSETFROM:-0400
TZOFFSETTO:-0500
TZNAME:EST
DTSTART:20221106T060000
END:STANDARD
BEGIN:DAYLIGHT
TZOFFSETFROM:-0500
TZOFFSETTO:-0400
TZNAME:EDT
DTSTART:20230312T070000
END:DAYLIGHT
BEGIN:STANDARD
TZOFFSETFROM:-0400
TZOFFSETTO:-0500
TZNAME:EST
DTSTART:20231105T060000
END:STANDARD
END:VTIMEZONE
BEGIN:VEVENT
DTSTART;TZID=America/Toronto:20220601T080000
DTEND;TZID=America/Toronto:20220601T170000
DTSTAMP:20260421T130215
CREATED:20220420T170139Z
LAST-MODIFIED:20220420T170139Z
UID:3634-1654070400-1654102800@grandmotherscampaign.org
SUMMARY:For the Love of Grandmothers Fitness Challenge (May 1 to June 30)
DESCRIPTION:It’s not to late to join the fun! The Greater Van Gogos invite members\, their friends\, family and supporters to join them in a fitness challenge from May 1st to June 30th. We hope to raise $50\,000 in support of the Stephen Lewis Foundation’s Grandmothers Campaign. We’ve done it before and we can do it again! \nClick here for more information and ways to participate.
URL:https://grandmotherscampaign.org/event/for-the-love-of-grandmothers-fitness-challenge-may-1-to-june-30/
CATEGORIES:Multi-day,Online
ATTACH;FMTTYPE=image/jpeg:https://grandmotherscampaign.org/wp-content/uploads/2022/04/Greater-Van-Gogos-fitness-challenge.jpg
END:VEVENT
END:VCALENDAR