BEGIN:VCALENDAR
VERSION:2.0
PRODID:-//Grandmothers to Grandmothers Campaign - ECPv6.15.20//NONSGML v1.0//EN
CALSCALE:GREGORIAN
METHOD:PUBLISH
X-ORIGINAL-URL:https://grandmotherscampaign.org
X-WR-CALDESC:Events for Grandmothers to Grandmothers Campaign
REFRESH-INTERVAL;VALUE=DURATION:PT1H
X-Robots-Tag:noindex
X-PUBLISHED-TTL:PT1H
BEGIN:VTIMEZONE
TZID:America/Toronto
BEGIN:DAYLIGHT
TZOFFSETFROM:-0500
TZOFFSETTO:-0400
TZNAME:EDT
DTSTART:20210314T070000
END:DAYLIGHT
BEGIN:STANDARD
TZOFFSETFROM:-0400
TZOFFSETTO:-0500
TZNAME:EST
DTSTART:20211107T060000
END:STANDARD
BEGIN:DAYLIGHT
TZOFFSETFROM:-0500
TZOFFSETTO:-0400
TZNAME:EDT
DTSTART:20220313T070000
END:DAYLIGHT
BEGIN:STANDARD
TZOFFSETFROM:-0400
TZOFFSETTO:-0500
TZNAME:EST
DTSTART:20221106T060000
END:STANDARD
BEGIN:DAYLIGHT
TZOFFSETFROM:-0500
TZOFFSETTO:-0400
TZNAME:EDT
DTSTART:20230312T070000
END:DAYLIGHT
BEGIN:STANDARD
TZOFFSETFROM:-0400
TZOFFSETTO:-0500
TZNAME:EST
DTSTART:20231105T060000
END:STANDARD
END:VTIMEZONE
BEGIN:VEVENT
DTSTART;TZID=America/Toronto:20220623T130000
DTEND;TZID=America/Toronto:20220623T140000
DTSTAMP:20260421T130248
CREATED:20220527T185529Z
LAST-MODIFIED:20220527T190900Z
UID:3790-1655989200-1655992800@grandmotherscampaign.org
SUMMARY:Raising Monarchs (Online)
DESCRIPTION:On June 23\, 2022 at 1:00 PM ET\, Ingrid Janssen will be giving a presentation on Raising Monarch Butterflies. \nIngrid is a horticulturist\, speaker\, blogger and master gardener. She has been gardening for most of her life and is a passionate\, some would say “crazy gardener”. Her presentation\, ‘Raising Monarchs: How I Became a Monarch Mama’\, is a story about an iconic butterfly and the role that gardeners can play in its survival. \nDonate at https://slf.akaraisin.com/ui/grandmotherscampaign2022/p/RaisingMonarchs.
URL:https://grandmotherscampaign.org/event/raising-monarchs/
CATEGORIES:Online
ATTACH;FMTTYPE=image/jpeg:https://grandmotherscampaign.org/wp-content/uploads/2022/05/Raising-Monarchs-scaled-e1653677515562.jpg
END:VEVENT
END:VCALENDAR