BEGIN:VCALENDAR
VERSION:2.0
PRODID:-//Grandmothers to Grandmothers Campaign - ECPv6.15.20//NONSGML v1.0//EN
CALSCALE:GREGORIAN
METHOD:PUBLISH
X-WR-CALNAME:Grandmothers to Grandmothers Campaign
X-ORIGINAL-URL:https://grandmotherscampaign.org
X-WR-CALDESC:Events for Grandmothers to Grandmothers Campaign
REFRESH-INTERVAL;VALUE=DURATION:PT1H
X-Robots-Tag:noindex
X-PUBLISHED-TTL:PT1H
BEGIN:VTIMEZONE
TZID:America/Toronto
BEGIN:DAYLIGHT
TZOFFSETFROM:-0500
TZOFFSETTO:-0400
TZNAME:EDT
DTSTART:20210314T070000
END:DAYLIGHT
BEGIN:STANDARD
TZOFFSETFROM:-0400
TZOFFSETTO:-0500
TZNAME:EST
DTSTART:20211107T060000
END:STANDARD
BEGIN:DAYLIGHT
TZOFFSETFROM:-0500
TZOFFSETTO:-0400
TZNAME:EDT
DTSTART:20220313T070000
END:DAYLIGHT
BEGIN:STANDARD
TZOFFSETFROM:-0400
TZOFFSETTO:-0500
TZNAME:EST
DTSTART:20221106T060000
END:STANDARD
BEGIN:DAYLIGHT
TZOFFSETFROM:-0500
TZOFFSETTO:-0400
TZNAME:EDT
DTSTART:20230312T070000
END:DAYLIGHT
BEGIN:STANDARD
TZOFFSETFROM:-0400
TZOFFSETTO:-0500
TZNAME:EST
DTSTART:20231105T060000
END:STANDARD
END:VTIMEZONE
BEGIN:VEVENT
DTSTART;TZID=America/Toronto:20221030T080000
DTEND;TZID=America/Toronto:20221030T170000
DTSTAMP:20260420T011309
CREATED:20221017T184750Z
LAST-MODIFIED:20221017T184750Z
UID:4222-1667116800-1667149200@grandmotherscampaign.org
SUMMARY:FINAL DAY: Bid on "A Mosaic Quilt" in a silent auction supporting the Stephen Lewis Foundation
DESCRIPTION:Bid on “A Mosaic Quilt” in Support of the Stephen Lewis Foundation (Bidding ends TODAY at 5 PM Eastern!)\n\nThis auction is the first of its kind for Ontario Mosaic Artists (OMA) to commemorate the late Jean Loney. Jean was a founding member of the Grandmothers of the Grand\, and a fellow mosaic artist from Fergus Ontario. She participated in OMA’s first group exhibition in 2021. Her artwork focused on birds and the effects of climate change. Jean’s presence and her beautiful mosaics will be missed by many. \nTo honour Jean’s memory\, 17 of the artists participating in OMA’s Putting the Pieces Back Together exhibition collaborated to produce a mosaic quilt of sorts. Each artist created up to 3 sections which were then assembled to create a unique mosaic. It was an enriching project that allowed the artists to work together\, even remotely\, to produce this one-of-a-kind artwork. \nThe mosaic\, entitled A Mosaic Quilt will be up for auction to raise funds for the Stephen Lewis Foundation will be up for auction beginning on Thursday\, October 6th\, and will end at 5 pm on October 30th. \nLearn more\, and place a bid here: https://go.rallyup.com/slf-auction/Campaign/Details
URL:https://grandmotherscampaign.org/event/final-day-bid-on-a-mosaic-quilt-in-a-silent-auction-supporting-the-stephen-lewis-foundation/
LOCATION:online
CATEGORIES:Online
ATTACH;FMTTYPE=image/jpeg:https://grandmotherscampaign.org/wp-content/uploads/2022/10/A-Mosaic-Quilt-e1666032229444.jpg
END:VEVENT
END:VCALENDAR