BEGIN:VCALENDAR
VERSION:2.0
PRODID:-//Grandmothers to Grandmothers Campaign - ECPv6.15.20//NONSGML v1.0//EN
CALSCALE:GREGORIAN
METHOD:PUBLISH
X-ORIGINAL-URL:https://grandmotherscampaign.org
X-WR-CALDESC:Events for Grandmothers to Grandmothers Campaign
REFRESH-INTERVAL;VALUE=DURATION:PT1H
X-Robots-Tag:noindex
X-PUBLISHED-TTL:PT1H
BEGIN:VTIMEZONE
TZID:America/Toronto
BEGIN:DAYLIGHT
TZOFFSETFROM:-0500
TZOFFSETTO:-0400
TZNAME:EDT
DTSTART:20210314T070000
END:DAYLIGHT
BEGIN:STANDARD
TZOFFSETFROM:-0400
TZOFFSETTO:-0500
TZNAME:EST
DTSTART:20211107T060000
END:STANDARD
BEGIN:DAYLIGHT
TZOFFSETFROM:-0500
TZOFFSETTO:-0400
TZNAME:EDT
DTSTART:20220313T070000
END:DAYLIGHT
BEGIN:STANDARD
TZOFFSETFROM:-0400
TZOFFSETTO:-0500
TZNAME:EST
DTSTART:20221106T060000
END:STANDARD
BEGIN:DAYLIGHT
TZOFFSETFROM:-0500
TZOFFSETTO:-0400
TZNAME:EDT
DTSTART:20230312T070000
END:DAYLIGHT
BEGIN:STANDARD
TZOFFSETFROM:-0400
TZOFFSETTO:-0500
TZNAME:EST
DTSTART:20231105T060000
END:STANDARD
END:VTIMEZONE
BEGIN:VEVENT
DTSTART;TZID=America/Toronto:20220310T190000
DTEND;TZID=America/Toronto:20220310T210000
DTSTAMP:20260425T173106
CREATED:20220110T160432Z
LAST-MODIFIED:20220202T152854Z
UID:3270-1646938800-1646946000@grandmotherscampaign.org
SUMMARY:A Tapestry of Food\, Family and Forgiveness (Online)
DESCRIPTION:A Tapestry of Food\, Family and Forgiveness features Nigerian Canadian author Francesca Ekwuyasi and Canadian literary critic Donna Bailey Nurse sharing a conversation about Francesca’s debut novel “Butter Honey Pig Bread.” \nFrancesca is an author and a multidisciplinary artist from Lagos\, Nigeria. Her novel\, “Butter Honey Pig Bread” was long listed for the Giller Prize in 2020\, and was voted one of the CBCs 10 Best Canadian novels of 2021.  Our organization is very important to her as she was raised by her grandmother and she greatly respects all the work the SLF does for African grandmothers. \nDonna focuses on Black Canadian literature and Black women’s writing.  She is frequently heard on CBC’s radio show The Next Chapter with Shelagh Rogers. She is a literary journalist\, lecturer\, a critic for  Book Television\, and the author of two volumes of connected writing\, “What’s a Black Critic to Do?” and the editor of Revival: An Anthology of Black Canadian Writing.  Donna is currently working on a People’s History of Black Canada.
URL:https://grandmotherscampaign.org/event/a-tapestry-of-food-family-and-forgiveness/
LOCATION:Zoom
CATEGORIES:Online
END:VEVENT
END:VCALENDAR